BEGIN:VCALENDAR
VERSION:2.0
PRODID:-//ChamberMaster//Event Calendar 2.0//EN
METHOD:PUBLISH
X-PUBLISHED-TTL:P3D
REFRESH-INTERVAL:P3D
CALSCALE:GREGORIAN
BEGIN:VEVENT
DTSTART:20230715T010000Z
DTEND:20230715T030000Z
X-MICROSOFT-CDO-ALLDAYEVENT:FALSE
SUMMARY:Movies in the Park – 80 for Brady
DESCRIPTION:Enjoy a film outdoors on the big screen with family and friends! Movies begin at dusk\, but make sure you arrive early for the best viewing spots. Pack a picnic\, bring your blanket\, sit back\, relax\, and enjoy the show.\n\n\n\nAfter decades of dreaming\, a quartet of older women\, who are dedicated football fans\, finally decides to make a pilgrimage to the Super Bowl for the once-in-a-lifetime chance to meet their favorite player\, noteworthy NFL mainstay Tom Brady. Along the way\, a series of hijinks ensue.\n\nRated PG-13\n\nMovies in the Park are sponsored in part by Franklin First Federal Credit Union.
X-ALT-DESC;FMTTYPE=text/html:Enjoy a film outdoors on the big screen with family and friends! Movies begin at dusk\, but make sure you arrive early for the best viewing spots. Pack a picnic\, bring your blanket\, sit back\, relax\, and enjoy the show.<br />\n<br />\nAfter decades of dreaming\, a quartet of older women\, who are dedicated football fans\, finally decides to make a pilgrimage to the Super Bowl for the once-in-a-lifetime chance to meet their favorite player\, noteworthy NFL mainstay Tom Brady. Along the way\, a series of hijinks ensue.<br />\nRated PG-13<br />\nMovies in the Park are sponsored in part by Franklin First Federal Credit Union.
LOCATION:Beacon Field\, Greenfield
UID:e.2182.19820
SEQUENCE:3
DTSTAMP:20260425T030630Z
URL:https://chamber.franklincc.org/events/details/movies-in-the-park-80-for-brady-19820
END:VEVENT

END:VCALENDAR
