BEGIN:VCALENDAR
VERSION:2.0
PRODID:-//ChamberMaster//Event Calendar 2.0//EN
METHOD:PUBLISH
X-PUBLISHED-TTL:P3D
REFRESH-INTERVAL:P3D
CALSCALE:GREGORIAN
BEGIN:VEVENT
DTSTART:20250313T170000Z
DTEND:20250313T190000Z
X-MICROSOFT-CDO-ALLDAYEVENT:FALSE
SUMMARY:Monthly Hike at Northfield Mountain
DESCRIPTION:Join our monthly hike on the trails of Northfield Mountain. If you are retired\, have a flexible schedule\, and have an active lifestyle\, this will be the perfect hike for you. Depending on trail conditions\, we may need to wear snowshoes or micro-spikes. Any rentals that you need are free! Pre-registration is required at www.bookeo.com/northfield.
X-ALT-DESC;FMTTYPE=text/html:Join our monthly hike on the trails of Northfield Mountain. If you are retired\, have a flexible schedule\, and have an active lifestyle\, this will be the perfect hike for you. Depending on trail conditions\, we may need to wear snowshoes or micro-spikes. Any rentals that you need are free! Pre-registration is required at<a href="http://www.bookeo.com/northfield" target="_blank"> www.bookeo.com/northfield</a>.&nbsp\;
LOCATION:Northfield Mountain 99 Millers Falls Road RT 63\, Northfield
UID:e.2182.24285
SEQUENCE:3
DTSTAMP:20260423T211246Z
URL:https://chamber.franklincc.org/events/details/monthly-hike-at-northfield-mountain-24285
END:VEVENT

END:VCALENDAR
