BEGIN:VCALENDAR
VERSION:2.0
PRODID:-//ChamberMaster//Event Calendar 2.0//EN
METHOD:PUBLISH
X-PUBLISHED-TTL:P3D
REFRESH-INTERVAL:P3D
CALSCALE:GREGORIAN
BEGIN:VEVENT
DTSTART:20250704T210000Z
DTEND:20250704T223000Z
X-MICROSOFT-CDO-ALLDAYEVENT:FALSE
SUMMARY:Mohawk Trail Concerts - 4th of July Concert
DESCRIPTION:JAZZ!\n\nJohn Clark -  horn\n\nJerry Noble  - piano\n\nAvery Sharpe -  bass\n\nThese three wowed us at our July 4th concert in 2023\, and they're back by popular demand!
X-ALT-DESC;FMTTYPE=text/html:JAZZ!<br />\nJohn Clark -&nbsp\; horn<br />\nJerry Noble&nbsp\; - piano<br />\nAvery Sharpe -&nbsp\; bass<br />\nThese three wowed us at our July 4th concert in 2023\, and they&#39\;re back by popular demand!<br />\n&nbsp\;
LOCATION:Charlemont Federated Church 175 Main St. (Rte 2) Charlemont\, MA
UID:e.2182.24850
SEQUENCE:3
DTSTAMP:20260424T001600Z
URL:https://chamber.franklincc.org/events/details/mohawk-trail-concerts-4th-of-july-concert-24850
END:VEVENT

END:VCALENDAR
