BEGIN:VCALENDAR
VERSION:2.0
PRODID:-//ChamberMaster//Event Calendar 2.0//EN
METHOD:PUBLISH
X-PUBLISHED-TTL:P3D
REFRESH-INTERVAL:P3D
CALSCALE:GREGORIAN
BEGIN:VEVENT
DTSTART:20210530T151500Z
DTEND:20210530T160000Z
X-MICROSOFT-CDO-ALLDAYEVENT:FALSE
SUMMARY:Memorial Day in Montague
DESCRIPTION:A service will be held on the Montague Center village green. The service\, organized by the Montague Center Fire Department\, will honor two World War 11 veterans who died earlier this year - Allen and Lillian Fiske. It will be led by Pastor James Koyama from the First Congregational Church of Montague
X-ALT-DESC;FMTTYPE=text/html:A service will be held on the Montague Center village green. The service\, organized by the Montague Center Fire Department\, will honor two World War 11 veterans who died earlier this year - Allen and Lillian Fiske. It will be led by Pastor James Koyama from the First Congregational Church of Montague
LOCATION:
UID:e.2182.18044
SEQUENCE:3
DTSTAMP:20260419T160847Z
URL:https://chamber.franklincc.org/events/details/memorial-day-in-montague-18044
END:VEVENT

END:VCALENDAR
