BEGIN:VCALENDAR
VERSION:2.0
PRODID:-//ChamberMaster//Event Calendar 2.0//EN
METHOD:PUBLISH
X-PUBLISHED-TTL:P3D
REFRESH-INTERVAL:P3D
CALSCALE:GREGORIAN
BEGIN:VEVENT
DTSTART:20250526T140000Z
DTEND:20250526T153000Z
X-MICROSOFT-CDO-ALLDAYEVENT:FALSE
SUMMARY:Memorial Day Ceremony in Turners Falls
DESCRIPTION:Representatives from the Montague Selectboard\, Montague Elks Lodge\, Scouts and the Montague Soldiers Memorial Committee will lead prayers and speeches honoring residents who died while serving in the Armed Forces.
X-ALT-DESC;FMTTYPE=text/html:Representatives from the Montague Selectboard\, Montague Elks Lodge\, Scouts and the Montague Soldiers Memorial Committee will lead prayers and speeches honoring residents who died while serving in the Armed Forces.
LOCATION:Veterans Memorial Park Avenue A\, Turners Falls
UID:e.2182.24743
SEQUENCE:3
DTSTAMP:20260423T211348Z
URL:https://chamber.franklincc.org/events/details/memorial-day-ceremony-in-turners-falls-24743
END:VEVENT

END:VCALENDAR
