BEGIN:VCALENDAR
VERSION:2.0
PRODID:-//ChamberMaster//Event Calendar 2.0//EN
METHOD:PUBLISH
X-PUBLISHED-TTL:P3D
REFRESH-INTERVAL:P3D
CALSCALE:GREGORIAN
BEGIN:VEVENT
DTSTART:20210219T000000Z
DTEND:20210219T010000Z
X-MICROSOFT-CDO-ALLDAYEVENT:FALSE
SUMMARY:Meet Your Neighbors - Online Event
DESCRIPTION:Chocolate in February... Need we say more?! Join us at the Greenfield Public Library for a virtual recipe exchange of our community's favorite recipes containing chocolate (Chicken Mole\, any one?) which will help us get through the end of winter.\n\nIt's easy to play: just send your recipe and photo to: librarian@greenfieldpubliclibrary.org\, and we will send you the Zoom link. All recipes will be shared! The deadline for submission is Monday\, February 15 at 5pm.\n\nThis program\, sponsored by the Friends of the Greenfield Public Library\, is free and open to the public.
X-ALT-DESC;FMTTYPE=text/html:<div class="kvgmc6g5 cxmmr5t8 oygrvhab hcukyx3x c1et5uql" style="overflow-wrap: break-word\; margin: 0px\; font-family: &quot\;Segoe UI Historic&quot\;\, &quot\;Segoe UI&quot\;\, Helvetica\, Arial\, sans-serif\; color: rgb(5\, 5\, 5)\; font-size: 15px\; animation-name: none !important\; transition-property: none !important\;">Chocolate in February... Need we say more?! Join us at the Greenfield Public Library for a virtual recipe exchange of our community&rsquo\;s favorite recipes containing chocolate (Chicken Mole\, any one?) which will help us get through the end of winter.</div>\n\n<div class="o9v6fnle cxmmr5t8 oygrvhab hcukyx3x c1et5uql" style="overflow-wrap: break-word\; margin: 0.5em 0px 0px\; font-family: &quot\;Segoe UI Historic&quot\;\, &quot\;Segoe UI&quot\;\, Helvetica\, Arial\, sans-serif\; color: rgb(5\, 5\, 5)\; font-size: 15px\; animation-name: none !important\; transition-property: none !important\;">It&rsquo\;s easy to play: just send your recipe and photo to: librarian@greenfieldpubliclibrary.org\, and we will send you the Zoom link. All recipes will be shared! The deadline for submission is Monday\, February 15 at 5pm.</div>\n\n<div class="o9v6fnle cxmmr5t8 oygrvhab hcukyx3x c1et5uql" style="overflow-wrap: break-word\; margin: 0.5em 0px 0px\; font-family: &quot\;Segoe UI Historic&quot\;\, &quot\;Segoe UI&quot\;\, Helvetica\, Arial\, sans-serif\; color: rgb(5\, 5\, 5)\; font-size: 15px\; animation-name: none !important\; transition-property: none !important\;">This program\, sponsored by the Friends of the Greenfield Public Library\, is free and open to the public.</div>\n
LOCATION:
UID:e.2182.17806
SEQUENCE:3
DTSTAMP:20260421T070555Z
URL:https://chamber.franklincc.org/events/details/meet-your-neighbors-online-event-17806
END:VEVENT

END:VCALENDAR
