BEGIN:VCALENDAR
VERSION:2.0
PRODID:-//ChamberMaster//Event Calendar 2.0//EN
METHOD:PUBLISH
X-PUBLISHED-TTL:P3D
REFRESH-INTERVAL:P3D
CALSCALE:GREGORIAN
BEGIN:VEVENT
DTSTART:20230808T140000Z
DTEND:20230808T170000Z
X-MICROSOFT-CDO-ALLDAYEVENT:FALSE
SUMMARY:Meet and Greet with the Community Foundation of Western Massachusetts
DESCRIPTION:Greenspace CoWork hosts our first monthly Open Office Hours with the Community Foundation of Western Massachusetts\, bringing together resources\, expertise\, and devoted regional partners to tackle complex and complicated issues since 1991. The Community Foundation is deeply devoted to seeking solutions\, building connections\, and collaborating to have effective and positive impact here in Western Mass. With a long\, proven work history\, they envision a place where every person has access\, opportunity\, and a satisfying quality of life\; a place where diversity is embraced and all are included\, a place where the meaning of "philanthropy" love of people drives us all to join together in making our region a great place to live. Enjoy local refreshments & pastries and Meet Jeff Markham\, Program Officer for Community Impact and Partnerships\, in our second\, beautiful Cowork Office location at 278 Main.
X-ALT-DESC;FMTTYPE=text/html:Greenspace CoWork hosts our first monthly Open Office Hours with the Community Foundation of Western Massachusetts\, bringing together resources\, expertise\, and devoted regional partners to tackle complex and complicated issues since 1991. The Community Foundation is deeply devoted to seeking solutions\, building connections\, and collaborating to have effective and positive impact here in Western Mass. With a long\, proven work history\, they envision a place where every person has access\, opportunity\, and a satisfying quality of life\; a place where diversity is embraced and all are included\, a place where the meaning of &ldquo\;philanthropy&rdquo\;&mdash\;love of people&mdash\;drives us all to join together in making our region a great place to live. Enjoy local refreshments &amp\; pastries and Meet Jeff Markham\, Program Officer for Community Impact and Partnerships\, in our second\, beautiful Cowork Office location at 278 Main.
LOCATION:278 Main Street\, 2nd Floor\, end of hall\, Greenfield
UID:e.2182.20240
SEQUENCE:3
DTSTAMP:20260425T023615Z
URL:https://chamber.franklincc.org/events/details/meet-and-greet-with-the-community-foundation-of-western-massachusetts-20240
END:VEVENT

END:VCALENDAR
