BEGIN:VCALENDAR
VERSION:2.0
PRODID:-//ChamberMaster//Event Calendar 2.0//EN
METHOD:PUBLISH
X-PUBLISHED-TTL:P3D
REFRESH-INTERVAL:P3D
CALSCALE:GREGORIAN
BEGIN:VEVENT
DTSTART:20230215T140000Z
DTEND:20230215T163000Z
X-MICROSOFT-CDO-ALLDAYEVENT:FALSE
SUMMARY:MassHire Franklin Hampshire Job Fair
DESCRIPTION:MassHire Franklin Hampshire Career Center hosts a job and career fair where local companies offer opportunities to learn about different industries and occupations\, network with employers and even apply for jobs! \n  Speak with employers from various industries\n\n  Learn what each company has to offer\n\n  Explore training opportunities available through Greenfield Community College and MassHire Franklin Hampshire Career Center\n\n  No pre-registration required\n\n \n\nALL EMPLOYERS ARE HIRING!\n\n \n\nAssociated Home Care   Baystate Children's Hospital   Baystate Franklin Medical Center   Berkshire East Mountain Resort   Bete Fog Nozzle   BHN - Brattleboro Retreat   Charlene Manor   City of Greenfield - Community Action Pioneer Valley     Comprehensive Home Care   Deerfield Packaging   FM Kuzmeskus   Franklin County Sheriff's Department   Franklin Transit Management/ FRTA   Gandara Center    Greenfield Community College   Linda Manor   MassHire Franklin Hampshire Career Center - mativ   Mayhew Steel   McGovern Auto Group   Oxbow Design Build Cooperative   Pathlight Group   Pelican Products   Pioneer Valley EMS   River Valley Co-op   The United Arc - Town of Montague   TravelKuz - Valley Medical Group   Zoar Outdoor
X-ALT-DESC;FMTTYPE=text/html:<span style="color: rgb(5\, 5\, 5)\; font-family: &quot\;Segoe UI Historic&quot\;\, &quot\;Segoe UI&quot\;\, Helvetica\, Arial\, sans-serif\; font-size: 15px\;">MassHire Franklin Hampshire Career Center hosts a job and career fair where local companies offer opportunities to learn about different industries and occupations\, network with employers and even apply for jobs!&nbsp\;</span>\n<div>&bull\;<span style="white-space:pre"> </span>Speak with employers from various industries</div>\n\n<div>&bull\;<span style="white-space:pre"> </span>Learn what each company has to offer</div>\n\n<div>&bull\;<span style="white-space:pre"> </span>Explore training opportunities available through Greenfield Community College and MassHire Franklin Hampshire Career Center</div>\n\n<div>&bull\;<span style="white-space:pre"> </span>No pre-registration required</div>\n\n<div>&nbsp\;</div>\n\n<div>ALL EMPLOYERS ARE HIRING!</div>\n\n<div>&nbsp\;</div>\n\n<div>Associated Home Care &ndash\; Baystate Children&rsquo\;s Hospital &ndash\; Baystate Franklin Medical Center &ndash\; Berkshire East Mountain Resort &ndash\; Bete Fog Nozzle &ndash\; BHN - Brattleboro Retreat &ndash\; Charlene Manor &ndash\; City of Greenfield - Community Action Pioneer Valley &ndash\;&nbsp\; &nbsp\;Comprehensive Home Care &ndash\; Deerfield Packaging &ndash\; FM Kuzmeskus &ndash\; Franklin County Sheriff&rsquo\;s Department &ndash\; Franklin Transit Management/ FRTA &ndash\; Gandara Center &ndash\;&nbsp\; Greenfield Community College &ndash\; Linda Manor &ndash\; MassHire Franklin Hampshire Career Center - mativ &ndash\; Mayhew Steel &ndash\; McGovern Auto Group &ndash\; Oxbow Design Build Cooperative &ndash\; Pathlight Group &ndash\; Pelican Products &ndash\; Pioneer Valley EMS &ndash\; River Valley Co-op &ndash\; The United Arc - Town of Montague &ndash\; TravelKuz - Valley Medical Group &ndash\; Zoar Outdoor</div>\n
LOCATION:Greenfield Community College One College Drive\, Greenfield
UID:e.2182.19427
SEQUENCE:3
DTSTAMP:20260424T202603Z
URL:https://chamber.franklincc.org/events/details/masshire-franklin-hampshire-job-fair-19427
END:VEVENT

END:VCALENDAR
