BEGIN:VCALENDAR
VERSION:2.0
PRODID:-//ChamberMaster//Event Calendar 2.0//EN
METHOD:PUBLISH
X-PUBLISHED-TTL:P3D
REFRESH-INTERVAL:P3D
CALSCALE:GREGORIAN
BEGIN:VEVENT
DTSTART:20250120T150000Z
DTEND:20250120T180000Z
X-MICROSOFT-CDO-ALLDAYEVENT:FALSE
SUMMARY:Martin Luther King\, Jr. Day 2025 Celebration
DESCRIPTION:For over two decades Greenfield Community College has been celebrating the legacy of Dr. Martin Luther King\, Junior. This year's 26th annual event features a program appropriate for all ages with dance\, arts and crafts\, education\, music\, food and a keynote presentation "Advancing our Beloved Community in a Time of Uncertainty" from Dr. Calvin Hill\, Vice Chancellor for Inclusive Excellence and Belonging at the University of Massachusetts Boston. Registration strongly encouraged.
X-ALT-DESC;FMTTYPE=text/html:For over two decades Greenfield Community College has been celebrating the legacy of Dr. Martin Luther King\, Junior. This year&rsquo\;s 26th annual event features a program appropriate for all ages with dance\, arts and crafts\, education\, music\, food and a keynote presentation &ldquo\;Advancing our Beloved Community in a Time of Uncertainty&rdquo\; from Dr. Calvin Hill\, Vice Chancellor for Inclusive Excellence and Belonging at the University of Massachusetts Boston. Registration strongly encouraged.
LOCATION:Greenfield Community College One College Drive\, Greenfield
UID:e.2182.24202
SEQUENCE:3
DTSTAMP:20260424T001218Z
URL:https://chamber.franklincc.org/events/details/martin-luther-king-jr-day-2025-celebration-24202
END:VEVENT

END:VCALENDAR
