BEGIN:VCALENDAR
VERSION:2.0
PRODID:-//ChamberMaster//Event Calendar 2.0//EN
METHOD:PUBLISH
X-PUBLISHED-TTL:P3D
REFRESH-INTERVAL:P3D
CALSCALE:GREGORIAN
BEGIN:VEVENT
DTSTART:20210206T223000Z
DTEND:20210207T010000Z
X-MICROSOFT-CDO-ALLDAYEVENT:FALSE
SUMMARY:Make Needle-Felted Valentine Ornaments Virtually
DESCRIPTION:Want a warm and fuzzy Valentine\, for yourself or for a friend? Make one\, or more\, out of cookie cutters\, ribbon and dry-felting wool. Join the Arms Library in a Virtual program teaching you how to make these very simple\, and sweet\, tokens of affection.\n\nThis craft is easy enough for most ages\, but not recommended for kindergarten and under\, as we will be using sharp felting needles to poke the wool and create our heart shapes.\n\nPlease R.S.V.P. with Arms Library at 413-625-0306 for this so we can send you a Zoom link and\, you can pick up your Valentine felting supply bag. Supplies include a variety of wool\, felting block\, felting needles\, cookie cutter and ribbon.\n\n\n\n\nEvent by Arms Library\, Cushman Library and Whately Public Library/S.White Dickinson Memorial
X-ALT-DESC;FMTTYPE=text/html:<div class="kvgmc6g5 cxmmr5t8 oygrvhab hcukyx3x c1et5uql" style="overflow-wrap: break-word\; margin: 0px\; font-family: &quot\;Segoe UI Historic&quot\;\, &quot\;Segoe UI&quot\;\, Helvetica\, Arial\, sans-serif\; color: rgb(5\, 5\, 5)\; font-size: 15px\; animation-name: none !important\; transition-property: none !important\;">Want a warm and fuzzy Valentine\, for yourself or for a friend? Make one\, or more\, out of cookie cutters\, ribbon and dry-felting wool. Join the Arms Library in a Virtual program teaching you how to make these very simple\, and sweet\, tokens of affection.</div>\n\n<div class="o9v6fnle cxmmr5t8 oygrvhab hcukyx3x c1et5uql" style="overflow-wrap: break-word\; margin: 0.5em 0px 0px\; font-family: &quot\;Segoe UI Historic&quot\;\, &quot\;Segoe UI&quot\;\, Helvetica\, Arial\, sans-serif\; color: rgb(5\, 5\, 5)\; font-size: 15px\; animation-name: none !important\; transition-property: none !important\;">This craft is easy enough for most ages\, but not recommended for kindergarten and under\, as we will be using sharp felting needles to poke the wool and create our heart shapes.</div>\n\n<div class="o9v6fnle cxmmr5t8 oygrvhab hcukyx3x c1et5uql" style="overflow-wrap: break-word\; margin: 0.5em 0px 0px\; font-family: &quot\;Segoe UI Historic&quot\;\, &quot\;Segoe UI&quot\;\, Helvetica\, Arial\, sans-serif\; color: rgb(5\, 5\, 5)\; font-size: 15px\; animation-name: none !important\; transition-property: none !important\;">Please R.S.V.P. with Arms Library at 413-625-0306 for this so we can send you a Zoom link and\, you can pick up your Valentine felting supply bag. Supplies include a variety of wool\, felting block\, felting needles\, cookie cutter and ribbon.</div>\n<br />\n<br />\n<span style="color: rgb(5\, 5\, 5)\; font-family: &quot\;Segoe UI Historic&quot\;\, &quot\;Segoe UI&quot\;\, Helvetica\, Arial\, sans-serif\; font-size: 15px\;">Event by&nbsp\;</span><span style="font-weight: 600\; color: rgb(5\, 5\, 5)\; font-family: &quot\;Segoe UI Historic&quot\;\, &quot\;Segoe UI&quot\;\, Helvetica\, Arial\, sans-serif\; font-size: 15px\; animation-name: none !important\; transition-property: none !important\;"><a class="oajrlxb2 g5ia77u1 qu0x051f esr5mh6w e9989ue4 r7d6kgcz rq0escxv nhd2j8a9 nc684nl6 p7hjln8o kvgmc6g5 cxmmr5t8 oygrvhab hcukyx3x jb3vyjys rz4wbd8a qt6c0cv9 a8nywdso i1ao9s8h esuyzwwr f1sip0of lzcic4wl oo9gr5id gpro0wi8 lrazzd5p" href="https://www.facebook.com/ArmsLibrary/" role="link" style="color: var(--primary-text)\; cursor: pointer\; text-decoration-line: none\; outline: none\; list-style: none\; border-width: 0px\; border-style: initial\; border-color: initial\; padding: 0px\; margin: 0px\; touch-action: manipulation\; background-color: transparent\; text-align: inherit\; display: inline\; -webkit-tap-highlight-color: transparent\; box-sizing: border-box\; font-family: inherit\; animation-name: none !important\; transition-property: none !important\;" tabindex="0">Arms Library</a></span><span style="color: rgb(5\, 5\, 5)\; font-family: &quot\;Segoe UI Historic&quot\;\, &quot\;Segoe UI&quot\;\, Helvetica\, Arial\, sans-serif\; font-size: 15px\;">\,&nbsp\;</span><span style="font-weight: 600\; color: rgb(5\, 5\, 5)\; font-family: &quot\;Segoe UI Historic&quot\;\, &quot\;Segoe UI&quot\;\, Helvetica\, Arial\, sans-serif\; font-size: 15px\; animation-name: none !important\; transition-property: none !important\;"><a class="oajrlxb2 g5ia77u1 qu0x051f esr5mh6w e9989ue4 r7d6kgcz rq0escxv nhd2j8a9 nc684nl6 p7hjln8o kvgmc6g5 cxmmr5t8 oygrvhab hcukyx3x jb3vyjys rz4wbd8a qt6c0cv9 a8nywdso i1ao9s8h esuyzwwr f1sip0of lzcic4wl oo9gr5id gpro0wi8 lrazzd5p" href="https://www.facebook.com/Cushman-Library-111614595114/" role="link" style="color: var(--primary-text)\; cursor: pointer\; text-decoration-line: none\; outline: none\; list-style: none\; border-width: 0px\; border-style: initial\; border-color: initial\; padding: 0px\; margin: 0px\; touch-action: manipulation\; background-color: transparent\; text-align: inherit\; display: inline\; -webkit-tap-highlight-color: transparent\; box-sizing: border-box\; font-family: inherit\; animation-name: none !important\; transition-property: none !important\;" tabindex="0">Cushman Library</a></span><span style="color: rgb(5\, 5\, 5)\; font-family: &quot\;Segoe UI Historic&quot\;\, &quot\;Segoe UI&quot\;\, Helvetica\, Arial\, sans-serif\; font-size: 15px\;">&nbsp\;and&nbsp\;</span><span style="font-weight: 600\; color: rgb(5\, 5\, 5)\; font-family: &quot\;Segoe UI Historic&quot\;\, &quot\;Segoe UI&quot\;\, Helvetica\, Arial\, sans-serif\; font-size: 15px\; animation-name: none !important\; transition-property: none !important\;"><a class="oajrlxb2 g5ia77u1 qu0x051f esr5mh6w e9989ue4 r7d6kgcz rq0escxv nhd2j8a9 nc684nl6 p7hjln8o kvgmc6g5 cxmmr5t8 oygrvhab hcukyx3x jb3vyjys rz4wbd8a qt6c0cv9 a8nywdso i1ao9s8h esuyzwwr f1sip0of lzcic4wl oo9gr5id gpro0wi8 lrazzd5p" href="https://www.facebook.com/whatelylibrary/" role="link" style="color: var(--primary-text)\; cursor: pointer\; text-decoration-line: none\; outline: none\; list-style: none\; border-width: 0px\; border-style: initial\; border-color: initial\; padding: 0px\; margin: 0px\; touch-action: manipulation\; background-color: transparent\; text-align: inherit\; display: inline\; -webkit-tap-highlight-color: transparent\; box-sizing: border-box\; font-family: inherit\; animation-name: none !important\; transition-property: none !important\;" tabindex="0">Whately Public Library/S.White Dickinson Memorial</a></span>
LOCATION:
UID:e.2182.17797
SEQUENCE:3
DTSTAMP:20260420T210149Z
URL:https://chamber.franklincc.org/events/details/make-needle-felted-valentine-ornaments-virtually-17797
END:VEVENT

END:VCALENDAR
