BEGIN:VCALENDAR
VERSION:2.0
PRODID:-//ChamberMaster//Event Calendar 2.0//EN
METHOD:PUBLISH
X-PUBLISHED-TTL:P3D
REFRESH-INTERVAL:P3D
CALSCALE:GREGORIAN
BEGIN:VEVENT
DTSTART:20210513T210000Z
DTEND:20210514T010000Z
X-MICROSOFT-CDO-ALLDAYEVENT:FALSE
SUMMARY:Luxury Wedding Showcase by Capri & Cashmere
DESCRIPTION:This FREE EVENT is open to brides & grooms\, moms\, sisters\, friends\, groomsmen...for an enjoyable\, elegant\, fun and luxurious wedding experience.\n\nAt The Barn at the Farm Table (Kringle Candle)\n\nindoor & outdoor event\n\n  Over 40+ select group of wedding specialists\n\n  Music & Interactive Entertainment (indoors & outdoors)   Food & Beverage Bar\n\n  First 50 registered arrivals receive a Gift Bag\n\n  Delivering a safe experience\n\n Visit: https://luxuryweddingshowcasebrideregistration.eventbrite.com \n\nThank you to our sponsors:\n\nAdventurUS Travel\, LLC \n\nThomson Financial Management Northwestern Mutual
X-ALT-DESC;FMTTYPE=text/html:<div>\n<p><span style="font-family:times\; font-size:14.000000pt">This FREE EVENT is open to brides &amp\; grooms\, moms\, sisters\, friends\, groomsmen...for an enjoyable\, elegant\, fun and luxurious wedding experience.<br />\nAt The Barn at the Farm Table (Kringle Candle)<br />\nindoor &amp\; outdoor event</span></p>\n\n<p><span style="color:rgb(26.666670%\, 26.666670%\, 26.666670%)\; font-family:baskerville\; font-size:17.000000pt">&bull\; </span><span style="color:rgb(26.666670%\, 26.666670%\, 26.666670%)\; font-family:baskerville\; font-size:14.000000pt">Over 40+ select group of wedding specialists</span><br />\n<span style="color:rgb(26.666670%\, 26.666670%\, 26.666670%)\; font-family:baskerville\; font-size:17.000000pt">&bull\; </span><span style="color:rgb(26.666670%\, 26.666670%\, 26.666670%)\; font-family:baskerville\; font-size:14.000000pt">Music &amp\; Interactive Entertainment (indoors &amp\; outdoors) </span><span style="color:rgb(26.666670%\, 26.666670%\, 26.666670%)\; font-family:baskerville\; font-size:17.000000pt">&bull\; </span><span style="color:rgb(26.666670%\, 26.666670%\, 26.666670%)\; font-family:baskerville\; font-size:14.000000pt">Food &amp\; Beverage Bar</span><br />\n<span style="color:rgb(26.666670%\, 26.666670%\, 26.666670%)\; font-family:baskerville\; font-size:17.000000pt">&bull\; </span><span style="color:rgb(26.666670%\, 26.666670%\, 26.666670%)\; font-family:baskerville\; font-size:14.000000pt">First 50 registered arrivals receive a Gift Bag</span><br />\n<span style="color:rgb(26.666670%\, 26.666670%\, 26.666670%)\; font-family:baskerville\; font-size:17.000000pt">&bull\; </span><span style="color:rgb(26.666670%\, 26.666670%\, 26.666670%)\; font-family:baskerville\; font-size:14.000000pt">Delivering a safe experience</span><br />\n<span style="color:rgb(26.666670%\, 26.666670%\, 26.666670%)\; font-family:baskerville\; font-size:17.000000pt">&bull\;V</span><span style="color:rgb(26.666670%\, 26.666670%\, 26.666670%)\; font-family:baskerville\; font-size:14.000000pt">isit: </span><span style="color:rgb(26.666670%\, 26.666670%\, 26.666670%)\; font-family:baskerville\; font-size:12.000000pt">https://luxuryweddingshowcasebrideregistration.eventbrite.com </span><br />\n<strong>Thank you to our sponsors:<br />\nAdventurUS Travel\, LLC </strong></p>\n\n<p><strong>Thomson Financial Management Northwestern Mutual </strong></p>\n</div>\n
LOCATION:The Barn at The Farm Table (at Kringle Candle) 219 South St. Bernardston\, MA -01337
UID:e.2182.18029
SEQUENCE:3
DTSTAMP:20260422T005216Z
URL:https://chamber.franklincc.org/events/details/luxury-wedding-showcase-by-capri-cashmere-18029
END:VEVENT

END:VCALENDAR
