BEGIN:VCALENDAR
VERSION:2.0
PRODID:-//ChamberMaster//Event Calendar 2.0//EN
METHOD:PUBLISH
X-PUBLISHED-TTL:P3D
REFRESH-INTERVAL:P3D
CALSCALE:GREGORIAN
BEGIN:VEVENT
DTSTART:20230917T160000Z
DTEND:20230917T190000Z
X-MICROSOFT-CDO-ALLDAYEVENT:FALSE
SUMMARY:Local Farming in the Climate Crisis: Panel and Action Plan
DESCRIPTION:From the February deep freeze that took out Northeast peaches\, to May's hard frost damage to apples\, and to July's excessive rains and floods\, our local farms are reeling from climate-related crop losses.\n\nCome to the panel at 12 pm to learn about what is happening. Stay for the action session at 1:45 pm to be part of planning support for local farms for the future.\n\nThe panel brings together two local farmers\,\n\nDavid Fisher of Natural Roots Farm in Conway and Sarah Voiland of Red Fire Farm in Montague and Granby\; also with Natalie Blais\, State Representative for 1 st Franklin District. They will discuss the challenges of farming in the climate crisis\, the Massachusetts' government response\, and visions for the future\n\nWhen: Sunday\, September 17\, 2023\n\nWhere: The Episcopal Church of\n\nSaints James and Andrew\n\n8 Church Street\, Greenfield\, MA\n\n(Please enter front doors of the Church on Federal Street).\n\nTime: 12 noon to 1:30 pm Panel and Q&A\,\n\n1:45 pm - 2:30 pm Action Plan\n\nSnacks will be available.\n\nDonations will go to the United Way Massachusetts Farm Resiliency Fund which is responding to the recent flooding impacting western and central Mass. The Fund is also intended to support Massachusetts' farms after future climate events.\n\nContact: Ella Ingraham\, ejmai127@ gmail.com
X-ALT-DESC;FMTTYPE=text/html:<p>From the February deep freeze that took out Northeast peaches\, to May&#39\;s hard frost damage to apples\, and to July&#39\;s excessive rains and floods\, our local farms are reeling from climate-related crop losses.</p>\n\n<p>Come to the panel at 12 pm to learn about what is happening. Stay for the action session at 1:45 pm to be part of planning support for local farms for the future.</p>\n\n<p>The panel brings together two local farmers\,</p>\n\n<p>David Fisher of Natural Roots Farm in Conway and Sarah Voiland of Red Fire Farm in Montague and Granby\; also with Natalie Blais\, State Representative for 1 st Franklin District. They will discuss the challenges of farming in the climate crisis\, the Massachusetts&#39\; government response\, and visions for the future</p>\n\n<p>When: Sunday\, September 17\, 2023</p>\n\n<p>Where: The Episcopal Church of</p>\n\n<p>Saints James and Andrew</p>\n\n<p>8 Church Street\, Greenfield\, MA</p>\n\n<p>(Please enter front doors of the Church on Federal Street).</p>\n\n<p>Time: 12 noon to 1:30 pm Panel and Q&amp\;A\,</p>\n\n<p>1:45 pm - 2:30 pm Action Plan</p>\n\n<p>Snacks will be available.</p>\n\n<p>Donations will go to the United Way Massachusetts Farm Resiliency Fund which is responding to the recent flooding impacting western and central Mass. The Fund is also intended to support Massachusetts&#39\; farms after future climate events.</p>\n\n<p>Contact: Ella Ingraham\, ejmai127@ gmail.com</p>\n
LOCATION:Saints James and Andrew 8 Church Street Greenfield\, MA 01301
UID:e.2182.20299
SEQUENCE:3
DTSTAMP:20260425T022843Z
URL:https://chamber.franklincc.org/events/details/local-farming-in-the-climate-crisis-panel-and-action-plan-20299
END:VEVENT

END:VCALENDAR
