BEGIN:VCALENDAR
VERSION:2.0
PRODID:-//ChamberMaster//Event Calendar 2.0//EN
METHOD:PUBLISH
X-PUBLISHED-TTL:P3D
REFRESH-INTERVAL:P3D
CALSCALE:GREGORIAN
BEGIN:VEVENT
DTSTART:20250706T230000Z
DTEND:20250707T003000Z
X-MICROSOFT-CDO-ALLDAYEVENT:FALSE
SUMMARY:Live Music att the Park
DESCRIPTION:Rice: An American Band will perform. The rock group is made up of Chris Ellis (drums)\, Mike Wood (bass and vocals)\,Brian DiMartino (guitar) and Phil Simon (guitar and vocals).\n\nThe concert is free\, guest are invited to bring a chair and a picnic.
X-ALT-DESC;FMTTYPE=text/html:Rice: An American Band will perform. The rock group is made up of Chris Ellis (drums)\, Mike Wood (bass and vocals)\,Brian DiMartino (guitar) and Phil Simon (guitar and vocals).<br />\nThe concert is free\, guest are invited to bring a chair and a picnic.
LOCATION:Peskeompskut Park Avenue A Turners Falls
UID:e.2182.24879
SEQUENCE:3
DTSTAMP:20260424T001103Z
URL:https://chamber.franklincc.org/events/details/live-music-att-the-park-24879
END:VEVENT

END:VCALENDAR
