BEGIN:VCALENDAR
VERSION:2.0
PRODID:-//ChamberMaster//Event Calendar 2.0//EN
METHOD:PUBLISH
X-PUBLISHED-TTL:P3D
REFRESH-INTERVAL:P3D
CALSCALE:GREGORIAN
BEGIN:VEVENT
DTSTART:20230304T000000Z
DTEND:20230304T020000Z
X-MICROSOFT-CDO-ALLDAYEVENT:FALSE
SUMMARY:LIVE (in person) Hollywood Stand-up Comedy Night
DESCRIPTION:From Hollywood to Greenfield spend a night with True Comedy legends of the silver screen. Live and in person comedy show! Host Mike Smith will keep you entertained with a night of a real live laugh riot.\n\n\n\nComedy legend Steve Sweeney got his break working with Rodney Dangerfield and was featured in Back to School (1986). You may recognize him from There is Something About Mary (1998)\, Me\, Myself and Irene (2000)\, Celtic Pride (1996) or even the Equalizer (2014). This comedy legend has been a regular everywhere from Vegas to Atlantic City\, You've seen him on Comedy Central and in his own starring role in Sweeney Killing Sweeney (2018).\n\n\n\nWarm- up act (a star in his own right) Kenny Rogerson is no stranger to Hollywood himself. He was also in Something About Mary (1998) and was featured with Drew Barrymore in the Jimmy Fallon film Fever Pitch (2004). Sure he has played Vegas but you have also seen him on Letterman\, Conan\, HBO\, Showtime\, Comedy Central\, Improv and the Can Neely Foundations Comics Come Home.\n\n\n\nDon't miss this one night only chance to catch the comedy styling of these Hollywood headliners.
X-ALT-DESC;FMTTYPE=text/html:From Hollywood to Greenfield spend a night with True Comedy legends of the silver screen. Live and in person comedy show! Host Mike Smith will keep you entertained with a night of a real live laugh riot.<br />\n<br />\nComedy legend Steve Sweeney got his break working with Rodney Dangerfield and was featured in Back to School (1986). You may recognize him from There is Something About Mary (1998)\, Me\, Myself and Irene (2000)\, Celtic Pride (1996) or even the Equalizer (2014). This comedy legend has been a regular everywhere from Vegas to Atlantic City\, You&#39\;ve seen him on Comedy Central and in his own starring role in Sweeney Killing Sweeney (2018).<br />\n<br />\nWarm- up act (a star in his own right) Kenny Rogerson is no stranger to Hollywood himself. He was also in Something About Mary (1998) and was featured with Drew Barrymore in the Jimmy Fallon film Fever Pitch (2004). Sure he has played Vegas but you have also seen him on Letterman\, Conan\, HBO\, Showtime\, Comedy Central\, Improv and the Can Neely Foundations Comics Come Home.<br />\n<br />\nDon&#39\;t miss this one night only chance to catch the comedy styling of these Hollywood headliners.
LOCATION:Greenfield Garden Cinemas 361 Main Street\, Greenfield
UID:e.2182.19473
SEQUENCE:3
DTSTAMP:20260424T215317Z
URL:https://chamber.franklincc.org/events/details/live-in-person-hollywood-stand-up-comedy-night-19473
END:VEVENT

END:VCALENDAR
