BEGIN:VCALENDAR
VERSION:2.0
PRODID:-//ChamberMaster//Event Calendar 2.0//EN
METHOD:PUBLISH
X-PUBLISHED-TTL:P3D
REFRESH-INTERVAL:P3D
CALSCALE:GREGORIAN
BEGIN:VEVENT
DTSTART:20201128T220000Z
DTEND:20201129T020000Z
X-MICROSOFT-CDO-ALLDAYEVENT:FALSE
SUMMARY:Light UP the Fairgrounds
DESCRIPTION:Come take part in the first ever holiday light event at the Franklin County Fairgrounds in Greenfield!\n\n\n\nFor three weekends\, the fairgrounds will open for a drive-through holiday light event\, featuring holiday light displays created by local individuals\, businesses and organizations.  All visitors will be given a ballot to vote for their favorite display\, and the top three finishers win cash prizes!  $1000 for first place\, $500 for second and $250 for third.\n\n\n\nDrive through hours are 5:00pm to 9:00pm on the following dates:\n\n\n\nNovember 27\, 28 and 29.\n\n\n\nDecember 4\, 5 and 6.\n\n\n\nDecember 11\, 12 and 13.\n\n\n\nDrive through only! No walk throughs.\n\n\n\nThere is a minimum $5 donation per carload required at the gate\, and all proceeds benefit three local organizations.  Big Brothers/Big Sisters of Franklin County\, The Franklin County Sheriff's Office Regional Dog Shelter and the Franklin County Fairgrounds.\n\n\n\nThanks to our other sponsors\, Dillon Chevrolet\, St. Germain Investments\, Coldwell Banker Community Realtors and Rustic Romance of Miller Falls.\n\n\n\nLights will be powered by a generous donation from Aromatic Fillers and The Wax Barn of Whately.
X-ALT-DESC;FMTTYPE=text/html:<br />\nCome take part in the first ever holiday light event at the Franklin County Fairgrounds in Greenfield!<br />\n<br />\nFor three weekends\, the fairgrounds will open for a drive-through holiday light event\, featuring holiday light displays created by local individuals\, businesses and organizations.&nbsp\; All visitors will be given a ballot to vote for their favorite display\, and the top three finishers win cash prizes!&nbsp\; $1000 for first place\, $500 for second and $250 for third.<br />\n<br />\nDrive through hours are 5:00pm to 9:00pm on the following dates:<br />\n<br />\nNovember 27\, 28 and 29.<br />\n<br />\nDecember 4\, 5 and 6.<br />\n<br />\nDecember 11\, 12 and 13.<br />\n<br />\nDrive through only! No walk throughs.<br />\n<br />\nThere is a minimum $5 donation per carload required at the gate\, and all proceeds benefit three local organizations.&nbsp\; Big Brothers/Big Sisters of Franklin County\, The Franklin County Sheriff&rsquo\;s Office Regional Dog Shelter and the Franklin County Fairgrounds.<br />\n<br />\nThanks to our other sponsors\, Dillon Chevrolet\, St. Germain Investments\, Coldwell Banker Community Realtors and Rustic Romance of Miller Falls.<br />\n<br />\nLights will be powered by a generous donation from Aromatic Fillers and The Wax Barn of Whately.&nbsp\;
LOCATION:Franklin County Fairgrounds 89 Wisdom Way\, Greenfield
UID:e.2182.17682
SEQUENCE:3
DTSTAMP:20260420T194456Z
URL:https://chamber.franklincc.org/events/details/light-up-the-fairgrounds-11-28-2020-17682
END:VEVENT

END:VCALENDAR
