BEGIN:VCALENDAR
VERSION:2.0
PRODID:-//ChamberMaster//Event Calendar 2.0//EN
METHOD:PUBLISH
X-PUBLISHED-TTL:P3D
REFRESH-INTERVAL:P3D
CALSCALE:GREGORIAN
BEGIN:VEVENT
DTSTART:20241019T140000Z
DTEND:20241019T170000Z
X-MICROSOFT-CDO-ALLDAYEVENT:FALSE
SUMMARY:LifePath’s 32nd Annual Walkathon
DESCRIPTION:
X-ALT-DESC;FMTTYPE=text/html:
LOCATION:This annual fundraiser for LifePath provides a great opportunity to get together with family and friends and to support our Meals on Wheels program\, among other life-changing programs. Check-In and Registration will begin at 9:30 a.m. with our official start of the event at 10 a.m. This family-friendly event will have games\, activities\, and information tables from LifePath\, as well as our community partners and event sponsors. In addition\, there will also be music and entertainment\, food\, refreshments\, and much more.
UID:e.2182.23812
SEQUENCE:3
DTSTAMP:20260424T045155Z
URL:https://chamber.franklincc.org/events/details/lifepath-s-32nd-annual-walkathon-23812
END:VEVENT

END:VCALENDAR
