BEGIN:VCALENDAR
VERSION:2.0
PRODID:-//ChamberMaster//Event Calendar 2.0//EN
METHOD:PUBLISH
X-PUBLISHED-TTL:P3D
REFRESH-INTERVAL:P3D
CALSCALE:GREGORIAN
BEGIN:VEVENT
DTSTART:20251213T150000Z
DTEND:20251213T200000Z
X-MICROSOFT-CDO-ALLDAYEVENT:FALSE
SUMMARY:LEYDEN HOLIDAY CRAFT FAIR
DESCRIPTION:LEYDEN HOLIDAY CRAFT FAIR Hosted by the Leyden United Methodist Church Sat. Dec 13th 10am - 3pm Leyden Town Hall & Church 15 W. Leyden Rd. Leyden Ma Lunch Prepared by the Church Bake Sale * Raffle Vendor Space Available Contact: Emily 413-336-6248 em_el_issa@yahoo.com Facebook: Leyden Holiday Craft Fair
X-ALT-DESC;FMTTYPE=text/html:LEYDEN HOLIDAY CRAFT FAIR Hosted by the Leyden United Methodist Church Sat. Dec 13th 10am - 3pm Leyden Town Hall &amp\; Church 15 W. Leyden Rd. Leyden Ma Lunch Prepared by the Church Bake Sale * Raffle Vendor Space Available Contact: Emily 413-336-6248 em_el_issa@yahoo.com Facebook: Leyden Holiday Craft Fair
LOCATION:16 W. LEYDEN RD LEYDEN MA
UID:e.2182.27303
SEQUENCE:3
DTSTAMP:20260420T085125Z
URL:https://chamber.franklincc.org/events/details/leyden-holiday-craft-fair-12-13-2025-27303
END:VEVENT

END:VCALENDAR
