BEGIN:VCALENDAR
VERSION:2.0
PRODID:-//ChamberMaster//Event Calendar 2.0//EN
METHOD:PUBLISH
X-PUBLISHED-TTL:P3D
REFRESH-INTERVAL:P3D
CALSCALE:GREGORIAN
BEGIN:VEVENT
DTSTART:20230416T180000Z
DTEND:20230416T200000Z
X-MICROSOFT-CDO-ALLDAYEVENT:FALSE
SUMMARY:Let’s Have a Ball! Join the 1st Jurassic Mud Ball Festival in 200 Million Years
DESCRIPTION:Celebrate mud season with an exploration of rare Jurassic-age rocks found only in Turners Falls- armored mud balls! Family friendly activities for all ages. How were they formed millions of years ago? How were they discovered by geologist Richard Little? Make your own armored mud ball to take home\, with help from local geologist Steve Winters and DCR staff. Enjoy a tasty\, armored mud ball treat. Meet in the Great Hall. Weather permitting\, hunt for Jurassic armored mud balls on an easy walk to nearby Unity Park.
X-ALT-DESC;FMTTYPE=text/html:Celebrate mud season with an exploration of rare Jurassic-age rocks found only in Turners Falls- armored mud balls! Family friendly activities for all ages. How were they formed millions of years ago? How were they discovered by geologist Richard Little? Make your own armored mud ball to take home\, with help from local geologist Steve Winters and DCR staff. Enjoy a tasty\, armored mud ball treat. Meet in the Great Hall. Weather permitting\, hunt for Jurassic armored mud balls on an easy walk to nearby Unity Park.
LOCATION:Start Great Falls Discovery Center
UID:e.2182.19537
SEQUENCE:3
DTSTAMP:20260424T231611Z
URL:https://chamber.franklincc.org/events/details/let-s-have-a-ball-join-the-1st-jurassic-mud-ball-festival-in-200-million-years-19537
END:VEVENT

END:VCALENDAR
