BEGIN:VCALENDAR
VERSION:2.0
PRODID:-//ChamberMaster//Event Calendar 2.0//EN
METHOD:PUBLISH
X-PUBLISHED-TTL:P3D
REFRESH-INTERVAL:P3D
CALSCALE:GREGORIAN
BEGIN:VEVENT
DTSTART:20230421T143000Z
DTEND:20230421T153000Z
X-MICROSOFT-CDO-ALLDAYEVENT:FALSE
SUMMARY:Kidleidoscope Story Hour – Beavers
DESCRIPTION:For ages 3-6\, accompanied by an adult. Learn more about our wildlife neighbors who share our home. Program includes a story\, activities\, and a craft. Activities are indoors and outdoors\, weather permitting. Siblings and friends welcome.
X-ALT-DESC;FMTTYPE=text/html:For ages 3-6\, accompanied by an adult. Learn more about our wildlife neighbors who share our home. Program includes a story\, activities\, and a craft. Activities are indoors and outdoors\, weather permitting. Siblings and friends welcome.&nbsp\;
LOCATION:Meet in the Great Hall Great Falls Discovery Center
UID:e.2182.19538
SEQUENCE:3
DTSTAMP:20260425T002347Z
URL:https://chamber.franklincc.org/events/details/kidleidoscope-story-hour-beavers-19538
END:VEVENT

END:VCALENDAR
