BEGIN:VCALENDAR
VERSION:2.0
PRODID:-//ChamberMaster//Event Calendar 2.0//EN
METHOD:PUBLISH
X-PUBLISHED-TTL:P3D
REFRESH-INTERVAL:P3D
CALSCALE:GREGORIAN
BEGIN:VEVENT
DTSTART:20250131T153000Z
DTEND:20250131T163000Z
X-MICROSOFT-CDO-ALLDAYEVENT:FALSE
SUMMARY:Kidleidoscope Story Hour
DESCRIPTION:Groundhogs\, 10:30 11:30 a.m.\n\nLearn more about our wildlife neighbors in the Connecticut River Watershed. Program includes a story\, activities\, and crafts. Activities are indoors and outdoors\, weather permitting. For ages 3-6\, accompanied by an adult. Siblings and friends welcome. Meet in the Great Hall.
X-ALT-DESC;FMTTYPE=text/html:Groundhogs\, 10:30&mdash\;11:30 a.m.<br />\nLearn more about our wildlife neighbors in the Connecticut River Watershed. Program includes a story\, activities\, and crafts. Activities are indoors and outdoors\, weather permitting. For ages 3-6\, accompanied by an adult. Siblings and friends welcome. Meet in the Great Hall.
LOCATION:Great Falls Discovery Center 2 Avenue A\, Turners Falls
UID:e.2182.24121
SEQUENCE:3
DTSTAMP:20260424T001218Z
URL:https://chamber.franklincc.org/events/details/kidleidoscope-story-hour-01-31-2025-24121
END:VEVENT

END:VCALENDAR
