BEGIN:VCALENDAR
VERSION:2.0
PRODID:-//ChamberMaster//Event Calendar 2.0//EN
METHOD:PUBLISH
X-PUBLISHED-TTL:P3D
REFRESH-INTERVAL:P3D
CALSCALE:GREGORIAN
BEGIN:VEVENT
DTSTART:20250308T150000Z
DTEND:20250308T170000Z
X-MICROSOFT-CDO-ALLDAYEVENT:FALSE
SUMMARY:Kid's Nature Art with Deborah Bazer: Magical Dish Gardens
DESCRIPTION:Create a dish garden with tiny stone walkways\, magic pools\, and enchanted forests inhabited by tiny people and animals\, all made of natural materials. We'll also plant seeds as part of a miniature garden to welcome in the spring. \n\nFor children ages 4-10. Please pre-register at www.bookeo.com/northfield so we know how many to expect. Space is limited.
X-ALT-DESC;FMTTYPE=text/html:Create a dish garden with tiny stone walkways\, magic pools\, and enchanted forests inhabited by tiny people and animals\, all made of natural materials. We&rsquo\;ll also plant seeds as part of a miniature garden to welcome in the spring.&nbsp\;<br />\nFor children ages 4-10. Please pre-register at <a href="http://www.bookeo.com/northfield" target="_blank">www.bookeo.com/northfield</a> so we know how many to expect. Space is limited.
LOCATION:Northfield Mountain 99 Millers Falls Road RT 63\, Northfield
UID:e.2182.24284
SEQUENCE:3
DTSTAMP:20260423T223741Z
URL:https://chamber.franklincc.org/events/details/kid-s-nature-art-with-deborah-bazer-magical-dish-gardens-24284
END:VEVENT

END:VCALENDAR
