BEGIN:VCALENDAR
VERSION:2.0
PRODID:-//ChamberMaster//Event Calendar 2.0//EN
METHOD:PUBLISH
X-PUBLISHED-TTL:P3D
REFRESH-INTERVAL:P3D
CALSCALE:GREGORIAN
BEGIN:VEVENT
DTSTART:20240628T180000Z
DTEND:20240628T200000Z
X-MICROSOFT-CDO-ALLDAYEVENT:FALSE
SUMMARY:Kid Mountain! The Hike
DESCRIPTION:You've just arrived at Mohawk Trail State Forest for the weekend! You're full of energy you need to get out! The first thing we do: climb a mountain. Kid Mountain (real name: Thumper Mountain) is a perfectly-sized peak for the whole family: easy enough to be fun\, challenging enough to be rewarding. We keep this hike slow enough for everyone by playing lots of games along the way and finding plenty of cool nature sights to see. Whatever age you are\, we'll find the kind of fun that fits you. Ages 6 to 12\, with their grown-ups. 325-foot climb over a 1-mile hike. Free to the public. Program starts from Interpretive Nature Center just past park entrance.
X-ALT-DESC;FMTTYPE=text/html:You&#39\;ve just arrived at Mohawk Trail State Forest for the weekend! You&#39\;re full of energy you need to get out! The first thing we do: climb a mountain. Kid Mountain (real name: Thumper Mountain) is a perfectly-sized peak for the whole family: easy enough to be fun\, challenging enough to be rewarding. We keep this hike slow enough for everyone by playing lots of games along the way and finding plenty of cool nature sights to see. Whatever age you are\, we&#39\;ll find the kind of fun that fits you. Ages 6 to 12\, with their grown-ups. 325-foot climb over a 1-mile hike. Free to the public. Program starts from Interpretive Nature Center just past park entrance.
LOCATION:Mohawk Trail State Forest 175 Cold River Road/Route 2 Charlemont\, MA 01339
UID:e.2182.23114
SEQUENCE:3
DTSTAMP:20260424T125556Z
URL:https://chamber.franklincc.org/events/details/kid-mountain-the-hike-06-28-2024-23114
END:VEVENT

END:VCALENDAR
