BEGIN:VCALENDAR
VERSION:2.0
PRODID:-//ChamberMaster//Event Calendar 2.0//EN
METHOD:PUBLISH
X-PUBLISHED-TTL:P3D
REFRESH-INTERVAL:P3D
CALSCALE:GREGORIAN
BEGIN:VEVENT
DTSTART:20250517T140000Z
DTEND:20250517T180000Z
X-MICROSOFT-CDO-ALLDAYEVENT:FALSE
SUMMARY:Just Roots Spring Festival and Seedling Sale
DESCRIPTION:Just Roots\, a local farming and food access organization\, will host its annual Spring Festival and Seedling Sale on Saturday\, May 17th from 10:00 am - 2:00 pm at the Greenfield Community Farm (34 Glenbrook Drive\, Greenfield). The celebration will host an abundant selection of plants for sale\, grown by nearly a dozen local farms and nurseries. The Just Roots Spring Festival and Seedling Sale is free and open to the public. Visitors will find a wide selection of vegetable starts\, fruiting plants\, culinary and medicinal herbs\, vibrant flowers and native pollinators from Just Roots\, MXED GREENS\, Checkerspot Farm\, Sage Green Botanicals\, People's Medicine Project\, Sawmill Herb Farm\, Foxtrot Farm\, and A Wing and A Prayer Nursery. The event will also feature local craft vendors as well as food for purchase from 11:00 am - 1:00 pm from Mohawk Grill and Cocina Lupita. More information can be found at https://justroots.org/event/spring-festival-seedling-sale-2/. New this year\, a bonus seedling sale will run on Sunday\, May 18 from 10:00 am to 2:00 pm\, featuring additional plants grown by Just Roots.
X-ALT-DESC;FMTTYPE=text/html:Just Roots\, a local farming and food access organization\, will host its annual Spring Festival and Seedling Sale on Saturday\, May 17th from 10:00 am - 2:00 pm at the Greenfield Community Farm (34 Glenbrook Drive\, Greenfield). The celebration will host an abundant selection of plants for sale\, grown by nearly a dozen local farms and nurseries. The Just Roots Spring Festival and Seedling Sale is free and open to the public. Visitors will find a wide selection of vegetable starts\, fruiting plants\, culinary and medicinal herbs\, vibrant flowers and native pollinators from Just Roots\, MXED GREENS\, Checkerspot Farm\, Sage Green Botanicals\, People&rsquo\;s Medicine Project\, Sawmill Herb Farm\, Foxtrot Farm\, and A Wing and A Prayer Nursery. The event will also feature local craft vendors as well as food for purchase from 11:00 am - 1:00 pm from Mohawk Grill and Cocina Lupita. More information can be found at https://justroots.org/event/spring-festival-seedling-sale-2/. New this year\, a bonus seedling sale will run on Sunday\, May 18 from 10:00 am to 2:00 pm\, featuring additional plants grown by Just Roots.
LOCATION:34 Glenbrook Drive Greenfield MA 01301
UID:e.2182.24640
SEQUENCE:3
DTSTAMP:20260423T203758Z
URL:https://chamber.franklincc.org/events/details/just-roots-spring-festival-and-seedling-sale-24640
END:VEVENT

END:VCALENDAR
