BEGIN:VCALENDAR
VERSION:2.0
PRODID:-//ChamberMaster//Event Calendar 2.0//EN
METHOD:PUBLISH
X-PUBLISHED-TTL:P3D
REFRESH-INTERVAL:P3D
CALSCALE:GREGORIAN
BEGIN:VEVENT
DTSTART:20181011T230000Z
DTEND:20181012T020000Z
X-MICROSOFT-CDO-ALLDAYEVENT:FALSE
SUMMARY:Julian Gerstin Sextet
DESCRIPTION:Original jazz compositions inspired by the Caribbean and Balkans. With Eugene Uman\, Anna Patton\, Don Anderson\, Wes Brown\, and Ben James.
X-ALT-DESC;FMTTYPE=text/html:Original jazz compositions inspired by the Caribbean and Balkans. With Eugene Uman\, Anna Patton\, Don Anderson\, Wes Brown\, and Ben James.
LOCATION:Hawks & Reed Performing Arts Center 289 Main Street\, Greenfield
UID:e.2182.13299
SEQUENCE:3
DTSTAMP:20260424T224452Z
URL:https://chamber.franklincc.org/events/details/julian-gerstin-sextet-13299
END:VEVENT

END:VCALENDAR
