BEGIN:VCALENDAR
VERSION:2.0
PRODID:-//ChamberMaster//Event Calendar 2.0//EN
METHOD:PUBLISH
X-PUBLISHED-TTL:P3D
REFRESH-INTERVAL:P3D
CALSCALE:GREGORIAN
BEGIN:VEVENT
DTSTART:20250821T230000Z
DTEND:20250822T003000Z
X-MICROSOFT-CDO-ALLDAYEVENT:FALSE
SUMMARY:Jamaican Rock Steady Reggae with Root Fiyah with Abdul Baki
DESCRIPTION:Experience original Jamaican Rock Steady Reggae. Led by founding member of the I-Tones\, Abdul Baki\, Root Fiyah delivers soulful\, heartbeat-driven roots music. "Music is the heartbeat of creation it carries a message of love\, truth\, and upliftment. When I play\, it's not just for entertainment\, it's for elevation."-Abdul Baki\n\n\n\nThis FREE event is sponsored by RiverCulture with support from the Mass Cultural Council.\n\n\n\nBring a picnic dinner and a lawn chair. In case of rain this event will be rescheduled.
X-ALT-DESC;FMTTYPE=text/html:Experience original Jamaican Rock Steady Reggae. Led by founding member of the I-Tones\, Abdul Baki\, Root Fiyah delivers soulful\, heartbeat-driven roots music. &ldquo\;Music is the heartbeat of creation&mdash\;it carries a message of love\, truth\, and upliftment. When I play\, it&rsquo\;s not just for entertainment\, it&rsquo\;s for elevation.&rdquo\;-Abdul Baki<br />\n<br />\nThis FREE event is sponsored by RiverCulture with support from the Mass Cultural Council.<br />\n<br />\nBring a picnic dinner and a lawn chair. In case of rain this event will be rescheduled.
LOCATION:Peskeompskut Park Avenue A and Seventh St.\, Turners Falls
UID:e.2182.25093
SEQUENCE:3
DTSTAMP:20260424T013756Z
URL:https://chamber.franklincc.org/events/details/jamaican-rock-steady-reggae-with-root-fiyah-with-abdul-baki-25093
END:VEVENT

END:VCALENDAR
