BEGIN:VCALENDAR
VERSION:2.0
PRODID:-//ChamberMaster//Event Calendar 2.0//EN
METHOD:PUBLISH
X-PUBLISHED-TTL:P3D
REFRESH-INTERVAL:P3D
CALSCALE:GREGORIAN
BEGIN:VEVENT
DTSTART:20240405T213000Z
DTEND:20240406T004500Z
X-MICROSOFT-CDO-ALLDAYEVENT:FALSE
SUMMARY:Indoor Mini Golf- Greenfield Recreation Dept.
DESCRIPTION:Have a swinging good time at the Greenfield Recreation Department's Indoor Mini Golf Fireworks Fundraiser! On Friday April 5th\, swing by between 5:30 pm and 8:45 pm\, and on Saturday April 6th\, from 10 am to 3:45 pm. There will be a food truck on-site. Admission is just $5 per person\, and kids under three get in free. Don't miss out on this exciting event that's perfect for the whole family!
X-ALT-DESC;FMTTYPE=text/html:<span style="font-size:11px\;"><span id="docs-internal-guid-3ac35635-7fff-61fb-0f7b-94f05962e4a6"><span style="font-family: Arial\, sans-serif\; color: rgb(0\, 0\, 0)\; background-color: transparent\; font-variant-numeric: normal\; font-variant-east-asian: normal\; font-variant-alternates: normal\; font-variant-position: normal\; vertical-align: baseline\; white-space-collapse: preserve\;">Have a swinging good time at the Greenfield Recreation Department&#39\;s Indoor Mini Golf Fireworks Fundraiser! On Friday April 5th\, swing by between 5:30 pm and 8:45 pm\, and on Saturday April 6th\, from 10 am to 3:45 pm. There will be a food truck on-site. Admission is just $5 per person\, and kids under three get in free. Don&rsquo\;t miss out on this exciting event that&rsquo\;s perfect for the whole family!</span></span></span>
LOCATION:20 Sanderson Street in Greenfield
UID:e.2182.22925
SEQUENCE:3
DTSTAMP:20260421T030156Z
URL:https://chamber.franklincc.org/events/details/indoor-mini-golf-greenfield-recreation-dept-22925
END:VEVENT

END:VCALENDAR
