BEGIN:VCALENDAR
VERSION:2.0
PRODID:-//ChamberMaster//Event Calendar 2.0//EN
METHOD:PUBLISH
X-PUBLISHED-TTL:P3D
REFRESH-INTERVAL:P3D
CALSCALE:GREGORIAN
BEGIN:VEVENT
DTSTART:20250504T230000Z
DTEND:20250505T010000Z
X-MICROSOFT-CDO-ALLDAYEVENT:FALSE
SUMMARY:Immigrant Voices: A Celebration of the Arts
DESCRIPTION:Immigrant Voices: A Celebration of the Arts! showcases the artistic talent of students and allies of Center for New Americans. Performers from Afghanistan\, Haiti\, Nepal\, Senegal\, Somalia and beyond will dance\, sing\, and read poetry at this event.
X-ALT-DESC;FMTTYPE=text/html:Immigrant Voices: A Celebration of the Arts! showcases the artistic talent of students and allies of Center for New Americans. Performers from Afghanistan\, Haiti\, Nepal\, Senegal\, Somalia and beyond will dance\, sing\, and read poetry at this event.
LOCATION:Shea Theater Arts Center 71 Avenue A\, Turners Falls\, MA 01076
UID:e.2182.24445
SEQUENCE:3
DTSTAMP:20260423T204541Z
URL:https://chamber.franklincc.org/events/details/immigrant-voices-a-celebration-of-the-arts-24445
END:VEVENT

END:VCALENDAR
