BEGIN:VCALENDAR
VERSION:2.0
PRODID:-//ChamberMaster//Event Calendar 2.0//EN
METHOD:PUBLISH
X-PUBLISHED-TTL:P3D
REFRESH-INTERVAL:P3D
CALSCALE:GREGORIAN
BEGIN:VEVENT
DTSTART:20240216T123000Z
DTEND:20240216T140000Z
X-MICROSOFT-CDO-ALLDAYEVENT:FALSE
SUMMARY:I Love My Job - Chamber Breakfast
DESCRIPTION:In Franklin County\, we love our jobs! On Friday\, February 16th\, join us for breakfast at Terrazza's Restaurant and hear from a panel of local business leaders as they describe their roles across various economic sectors and why they love their jobs!\n\n\n	 Ryan Martin\, Owner\, Current Electric & Current Energy\n	Steven Rickman\, Executive Director\, The Learning Knoll\n	Laurie Lambert\, Head of School\, Stoneleigh Burnham School\n	Jayne Trosin\, Director of Fitness & Social Responsibility\, Franklin County's YMCA\n	Capt. Trisha Dana\, Turners Falls Fire Department\n\n\nRegistration is open until 2/13 and everyone is welcome! \n\n\n\nSpecial thanks to our event sponsor\, Franklin First Federal Credit Union.
X-ALT-DESC;FMTTYPE=text/html:<div>In Franklin County\, we love our jobs! On <strong>Friday\, February 16th</strong>\, join us for breakfast at Terrazza&#39\;s Restaurant and hear from a panel of local business leaders as they describe their roles across various economic sectors and why they love their jobs!</div>\n\n<ul>\n	<li>&#8203\;Ryan Martin\, Owner\, Current Electric &amp\; Current Energy</li>\n	<li>Steven Rickman\, Executive Director\, The Learning Knoll</li>\n	<li>Laurie Lambert\, Head of School\, Stoneleigh Burnham School</li>\n	<li>Jayne Trosin\, Director of Fitness &amp\; Social Responsibility\, Franklin County&#39\;s YMCA</li>\n	<li>Capt. Trisha Dana\, Turners Falls Fire Department</li>\n</ul>\n\n<div>Registration is open until 2/13 and everyone is welcome!&nbsp\;<br />\n<br />\nSpecial thanks to our event sponsor\, <strong><em>Franklin First Federal Credit Union.</em></strong></div>\n
LOCATION:Terrazza Ristorante
UID:e.2182.22496
SEQUENCE:3
DTSTAMP:20260423T132616Z
URL:https://chamber.franklincc.org/events/details/i-love-my-job-chamber-breakfast-22496
END:VEVENT

END:VCALENDAR
