BEGIN:VCALENDAR
VERSION:2.0
PRODID:-//ChamberMaster//Event Calendar 2.0//EN
METHOD:PUBLISH
X-PUBLISHED-TTL:P3D
REFRESH-INTERVAL:P3D
CALSCALE:GREGORIAN
BEGIN:VEVENT
DTSTART:20230503T120000Z
DTEND:20230503T200000Z
X-MICROSOFT-CDO-ALLDAYEVENT:FALSE
SUMMARY:I Love My CLogs
DESCRIPTION:Presents Comfort shoes\, socks and handbags. Brands include Dansko\, Sanita\, Klogs\, Trag\, L'artiste\, and Alegria.\n\n\n\nSponsored by the Gift Shop at Baystate Franklin Medical Center ro benefit patient and staff services.\n\n\n\nMasks are required.
X-ALT-DESC;FMTTYPE=text/html:Presents Comfort shoes\, socks and handbags. Brands include Dansko\, Sanita\, Klogs\, Trag\, L&#39\;artiste\, and Alegria.<br />\n<br />\nSponsored by the Gift Shop at Baystate Franklin Medical Center ro benefit patient and staff services.<br />\n<br />\nMasks are required.
LOCATION:Main Lobby Baystate Franklin Medical Center
UID:e.2182.19586
SEQUENCE:3
DTSTAMP:20260425T002346Z
URL:https://chamber.franklincc.org/events/details/i-love-my-clogs-05-03-2023-19586
END:VEVENT

END:VCALENDAR
