BEGIN:VCALENDAR
VERSION:2.0
PRODID:-//ChamberMaster//Event Calendar 2.0//EN
METHOD:PUBLISH
X-PUBLISHED-TTL:P3D
REFRESH-INTERVAL:P3D
CALSCALE:GREGORIAN
BEGIN:VEVENT
DTSTART:20190420T180000Z
DTEND:20190420T190000Z
X-MICROSOFT-CDO-ALLDAYEVENT:FALSE
SUMMARY:Hurray It’s Spring! A Lyric Celebration of Mud Season
DESCRIPTION:Join your emcees\, poets Chris Sawyer-Lau anno and Janel Nockleby\, as they welcome musician and poet Daniel Hales\, poet and novelist Corwin Ericson\, and poet Trish Crapo\, to a lyric celebration of mud season. Wear your muck boots and join in with the open mic (3 minutes per reader). Meet in the Great Hall.
X-ALT-DESC;FMTTYPE=text/html:Join your emcees\, poets Chris Sawyer-Lau&#7689\;anno and Janel Nockleby\, as they welcome musician and poet Daniel Hales\, poet and novelist Corwin Ericson\, and poet Trish Crapo\, to a lyric celebration of mud season. Wear your muck boots and join in with the open mic (3 minutes per reader). Meet in the Great Hall.
LOCATION:Great Falls Discovery Center 2 Avenue A\, Turners Falls
UID:e.2182.14858
SEQUENCE:3
DTSTAMP:20260423T130149Z
URL:https://chamber.franklincc.org/events/details/hurray-it-s-spring-a-lyric-celebration-of-mud-season-14858
END:VEVENT

END:VCALENDAR
