BEGIN:VCALENDAR
VERSION:2.0
PRODID:-//ChamberMaster//Event Calendar 2.0//EN
METHOD:PUBLISH
X-PUBLISHED-TTL:P3D
REFRESH-INTERVAL:P3D
CALSCALE:GREGORIAN
BEGIN:VEVENT
DTSTART:20181117T140000Z
DTEND:20181117T200000Z
X-MICROSOFT-CDO-ALLDAYEVENT:FALSE
SUMMARY:Holiday Village
DESCRIPTION:Shopping will include arts and crafts\, children's items\, collectibles\, bake dale\, silent auction\, and lunch will be served.
X-ALT-DESC;FMTTYPE=text/html:Shopping will include arts and crafts\, children&#39\;s items\, collectibles\, bake dale\, silent auction\, and lunch will be served.
LOCATION:Federated Church Route 2\, Charlemont
UID:e.2182.13475
SEQUENCE:3
DTSTAMP:20260424T211907Z
URL:https://chamber.franklincc.org/events/details/holiday-village-13475
END:VEVENT

END:VCALENDAR
