BEGIN:VCALENDAR
VERSION:2.0
PRODID:-//ChamberMaster//Event Calendar 2.0//EN
METHOD:PUBLISH
X-PUBLISHED-TTL:P3D
REFRESH-INTERVAL:P3D
CALSCALE:GREGORIAN
BEGIN:VEVENT
DTSTART:20201220T180000Z
DTEND:20201220T210000Z
X-MICROSOFT-CDO-ALLDAYEVENT:FALSE
SUMMARY:Holiday Cookie Fundraiser
DESCRIPTION:Cookies\, cookies\, and more cookies! Help our Rotary Club while enjoying and sharing cookies this Holiday season.\n\nWe have over a dozen different cookie choices from Snickerdoodles and Chocolate Chip\, to Coconut Macaroon and Raspberry Linzer Bars. We have holiday decorated cookies available too! Are you looking for Gingerbread kids or Sugar Cookies decorated for Hanukkah\, Christmas\, or fun winter snowflakes & snowmen?\n\nCookies are $18 per dozen. Mix and Match or get a dozen of your favorites.\n\nHoliday cookies are made by Stone Soup Cafe and can be picked up either Dec 13 or Dec 20.\nPlenty of time to order!\n\nIf you want cookies on Dec 13\, order by Dec 8.\n\nIf you want cookies on Dec 20\, order by Dec 15.\n\n \nSee the online order form and more details in the Tickets link.\n\n\n\nAll cookies are Gluten Free\, with some Vegan options as well.\n\nFranklin County Rotary Club raises money to support local organizations and projects\, youth sports\, and scholarships for Franklin County students.
X-ALT-DESC;FMTTYPE=text/html:Cookies\, cookies\, and more cookies! Help our Rotary Club while enjoying and sharing cookies this Holiday season.<br />\nWe have over a dozen different cookie choices from Snickerdoodles and Chocolate Chip\, to Coconut Macaroon and Raspberry Linzer Bars. We have holiday decorated cookies available too! Are you looking for Gingerbread kids or Sugar Cookies decorated for Hanukkah\, Christmas\, or fun winter snowflakes &amp\; snowmen?<br />\nCookies are $18 per dozen. Mix and Match or get a dozen of your favorites.<br />\nHoliday cookies are made by Stone Soup Cafe and can be picked up either Dec 13 or Dec 20.\n<div dir="auto" style="font-family: &quot\;Segoe UI Historic&quot\;\, &quot\;Segoe UI&quot\;\, Helvetica\, Arial\, sans-serif\; color: rgb(5\, 5\, 5)\; font-size: 15px\; white-space: pre-wrap\; animation-name: none !important\; transition-property: none !important\;">Plenty of time to order!<br />\nIf you want cookies on Dec 13\, order by Dec 8.<br />\nIf you want cookies on Dec 20\, order by Dec 15.<br />\n&nbsp\;</div>\nSee the online order form and more details in the <a href="https://form.jotform.com/202885485031154?fbclid=IwAR3_jodg-hNsmt6p6XxWAlyDx0j0LSLev-ir3XhHgqMNJDP8-xSfsRbaAt4" target="_blank">Tickets link</a>.<br />\n<br />\nAll cookies are Gluten Free\, with some Vegan options as well.<br />\nFranklin County Rotary Club raises money to support local organizations and projects\, youth sports\, and scholarships for Franklin County students.&nbsp\;
LOCATION:
UID:e.2182.17692
SEQUENCE:3
DTSTAMP:20260420T103300Z
URL:https://chamber.franklincc.org/events/details/holiday-cookie-fundraiser-12-20-2020-17692
END:VEVENT

END:VCALENDAR
