BEGIN:VCALENDAR
VERSION:2.0
PRODID:-//ChamberMaster//Event Calendar 2.0//EN
METHOD:PUBLISH
X-PUBLISHED-TTL:P3D
REFRESH-INTERVAL:P3D
CALSCALE:GREGORIAN
BEGIN:VEVENT
DTSTART:20230527T140000Z
DTEND:20230527T200000Z
X-MICROSOFT-CDO-ALLDAYEVENT:FALSE
SUMMARY:Historic Trade Demonstration: Stoneware Pottery with Mark Shapiro
DESCRIPTION:Join us for this Historic Trade Demonstration: Stoneware Pottery with Mark Shapiro.\n\nIncluded with General Admission.
X-ALT-DESC;FMTTYPE=text/html:<div class="xdj266r x11i5rnm xat24cr x1mh8g0r x1vvkbs" style="margin: 0px\; overflow-wrap: break-word\; font-family: &quot\;Segoe UI Historic&quot\;\, &quot\;Segoe UI&quot\;\, Helvetica\, Arial\, sans-serif\; color: rgb(5\, 5\, 5)\; font-size: 15px\;">Join us for this Historic Trade Demonstration: Stoneware Pottery with Mark Shapiro.</div>\n\n<div class="x11i5rnm xat24cr x1mh8g0r x1vvkbs xtlvy1s" style="margin: 0.5em 0px 0px\; overflow-wrap: break-word\; font-family: &quot\;Segoe UI Historic&quot\;\, &quot\;Segoe UI&quot\;\, Helvetica\, Arial\, sans-serif\; color: rgb(5\, 5\, 5)\; font-size: 15px\;">Included with General Admission.</div>\n
LOCATION:Historic Deerfield 80 Old Main Street\, Deerfield
UID:e.2182.19832
SEQUENCE:3
DTSTAMP:20260425T002433Z
URL:https://chamber.franklincc.org/events/details/historic-trade-demonstration-stoneware-pottery-with-mark-shapiro-19832
END:VEVENT

END:VCALENDAR
