BEGIN:VCALENDAR
VERSION:2.0
PRODID:-//ChamberMaster//Event Calendar 2.0//EN
METHOD:PUBLISH
X-PUBLISHED-TTL:P3D
REFRESH-INTERVAL:P3D
CALSCALE:GREGORIAN
BEGIN:VEVENT
DTSTART:20251012T140000Z
DTEND:20251012T200000Z
X-MICROSOFT-CDO-ALLDAYEVENT:FALSE
SUMMARY:Historic Trade Demonstration: Natural Dyes and Sewing
DESCRIPTION:Join us for a demonstration of natural dyes and sewing with Holly Eckert.\n\nIncluded with general admission.
X-ALT-DESC;FMTTYPE=text/html:Join us for a demonstration of natural dyes and sewing with Holly Eckert.<br />\nIncluded with general admission.
LOCATION:Historic Deerfield Hall Tavern (80 Old Main Street Deerfield
UID:e.2182.25189
SEQUENCE:3
DTSTAMP:20260424T064628Z
URL:https://chamber.franklincc.org/events/details/historic-trade-demonstration-natural-dyes-and-sewing-25189
END:VEVENT

END:VCALENDAR
