BEGIN:VCALENDAR
VERSION:2.0
PRODID:-//ChamberMaster//Event Calendar 2.0//EN
METHOD:PUBLISH
X-PUBLISHED-TTL:P3D
REFRESH-INTERVAL:P3D
CALSCALE:GREGORIAN
BEGIN:VEVENT
DTSTART:20230429T150000Z
DTEND:20230429T160000Z
X-MICROSOFT-CDO-ALLDAYEVENT:FALSE
SUMMARY:Hilltown Sleddogs Demonstration at Northfield Mountain
DESCRIPTION:Hilltown Sleddogs will be demonstrating Dryland Mushing with their sled dogs at Northfield Mountain Recreation and Environmental Center. This is a sport you can do with your own dog of any breed\, along as they like to run. Cani-Cross is jogging with a dog pulling you or trotting along side. Bikejoring\, Scootering & Rig Racing are activities you can also do with one or two dogs. Come see the Hilltown Sleddogs show you how!  \n\n\n\nWe ask that you please leave your dog at home during the demonstration. \n\nHilltown Sleddogs is a Touring and Racing Kennel\, home to a team of Alaskan Husky Sled Dogs in Western Massachusetts. In Summer we offer Sled Dog Camps\, Dog Yard Tours and Hikes with a Husky. In Winter\, Spring\, and Fall\, we offer Rides\, Group or Private Lessons\, with Our Dogs or Yours\, on Dryland and Snow! www.hilltownsleddogs.com
X-ALT-DESC;FMTTYPE=text/html:Hilltown Sleddogs will be demonstrating Dryland Mushing with their sled dogs at Northfield Mountain Recreation and Environmental Center. This is a sport you can do with your own dog of any breed\, along as they like to run. Cani-Cross is jogging with a dog pulling you or trotting along side. Bikejoring\, Scootering &amp\; Rig Racing are activities you can also do with one or two dogs. Come see the Hilltown Sleddogs show you how!&nbsp\;&nbsp\;<br />\n<br />\nWe ask that you please leave your dog at home during the demonstration.&nbsp\;<br />\nHilltown Sleddogs is a Touring and Racing Kennel\, home to a team of Alaskan Husky Sled Dogs in Western Massachusetts. In Summer we offer Sled Dog Camps\, Dog Yard Tours and Hikes with a Husky. In Winter\, Spring\, and Fall\, we offer Rides\, Group or Private Lessons\, with Our Dogs or Yours\, on Dryland and Snow! <a href="http://www.hilltownsleddogs.com" target="_blank">www.hilltownsleddogs.com</a>
LOCATION:Northfield Mountain Recreation Area
UID:e.2182.19584
SEQUENCE:3
DTSTAMP:20260424T231345Z
URL:https://chamber.franklincc.org/events/details/hilltown-sleddogs-demonstration-at-northfield-mountain-19584
END:VEVENT

END:VCALENDAR
