BEGIN:VCALENDAR
VERSION:2.0
PRODID:-//ChamberMaster//Event Calendar 2.0//EN
METHOD:PUBLISH
X-PUBLISHED-TTL:P3D
REFRESH-INTERVAL:P3D
CALSCALE:GREGORIAN
BEGIN:VEVENT
DTSTART:20231025T130000Z
DTEND:20231025T170000Z
X-MICROSOFT-CDO-ALLDAYEVENT:FALSE
SUMMARY:Healthy Aging Fair & Fitness Assessment
DESCRIPTION:Join Franklin County's YMCA for their annual Healthy Aging Fair & Fitness Assessment. Sign up to see how you compare to others your age. Informational talks\, flu clinic\, local businesses & organizations\, and lunch provided by Baystate Franklin Medical Center.
X-ALT-DESC;FMTTYPE=text/html:Join Franklin County&#39\;s YMCA for their annual Healthy Aging Fair &amp\; Fitness Assessment. Sign up to see how you compare to others your age. Informational talks\, flu clinic\, local businesses &amp\; organizations\, and lunch provided by Baystate Franklin Medical Center.
LOCATION:Franklin County's YMCA 451 Main Street\, Greenfield
UID:e.2182.22237
SEQUENCE:3
DTSTAMP:20260424T235240Z
URL:https://chamber.franklincc.org/events/details/healthy-aging-fair-fitness-assessment-22237
END:VEVENT

END:VCALENDAR
