BEGIN:VCALENDAR
VERSION:2.0
PRODID:-//ChamberMaster//Event Calendar 2.0//EN
METHOD:PUBLISH
X-PUBLISHED-TTL:P3D
REFRESH-INTERVAL:P3D
CALSCALE:GREGORIAN
BEGIN:VEVENT
DTSTART:20231031T200000Z
DTEND:20231031T233000Z
X-MICROSOFT-CDO-ALLDAYEVENT:FALSE
SUMMARY:Halloween in Downtown Greenfield
DESCRIPTION:Join us for a spooky good time! Downtown Trick or Treat\, Rag Shag Parade\, Costume Contest\, Free showing of It's the Great Pumpkin Charlie Brown at the Garden Cinema\, and family activities at the Y!
X-ALT-DESC;FMTTYPE=text/html:<div class="xdj266r x11i5rnm xat24cr x1mh8g0r x1vvkbs" style="margin: 0px\; overflow-wrap: break-word\; font-family: inherit\;"><span class="x193iq5w xeuugli x13faqbe x1vvkbs x1xmvt09 x1lliihq x1s928wv xhkezso x1gmr53x x1cpjm7i x1fgarty x1943h6x xudqn12 x3x7a5m x6prxxf xvq8zen xo1l8bm xzsf02u" dir="auto" style="word-break: break-word\; max-width: 100%\; display: block\; overflow-wrap: break-word\; font-family: &quot\;Segoe UI Historic&quot\;\, &quot\;Segoe UI&quot\;\, Helvetica\, Arial\, sans-serif\; font-size: 0.9375rem\; min-width: 0px\; line-height: 1.3333\; color: var(--primary-text)\; margin-top: 16px\;">Join us for a spooky good time! Downtown Trick or Treat\, Rag Shag Parade\, Costume Contest\, Free showing of It&#39\;s the Great Pumpkin Charlie Brown at the Garden Cinema\, and family activities at the Y!</span></div>\n\n<div class="x78zum5 x1a02dak" style="flex-wrap: wrap\; display: flex\; margin-top: 16px\; font-family: &quot\;Segoe UI Historic&quot\;\, &quot\;Segoe UI&quot\;\, Helvetica\, Arial\, sans-serif\; color: rgb(28\, 30\, 33)\; font-size: 12px\;">\n<div style="font-family: inherit\;">\n<div class="x6s0dn4 x1qhmfi1 x1lcm9me x1yr5g0i xrt01vj x10y3i5r x9f619 x78zum5 xl56j7k x12nagc x1gslohp x1y1aw1k x1sxyh0 xwib8y2 xurb0ha" style="border-radius: 4px\; margin-bottom: 4px\; margin-top: 4px\; background-color: var(--secondary-button-background)\; padding: 8px\; align-items: center\; display: flex\; box-sizing: border-box\; justify-content: center\; font-family: inherit\;">&nbsp\;</div>\n</div>\n</div>\n
LOCATION:Downtown Greenfield
UID:e.2182.22212
SEQUENCE:3
DTSTAMP:20260424T235103Z
URL:https://chamber.franklincc.org/events/details/halloween-in-downtown-greenfield-22212
END:VEVENT

END:VCALENDAR
