BEGIN:VCALENDAR
VERSION:2.0
PRODID:-//ChamberMaster//Event Calendar 2.0//EN
METHOD:PUBLISH
X-PUBLISHED-TTL:P3D
REFRESH-INTERVAL:P3D
CALSCALE:GREGORIAN
BEGIN:VEVENT
DTSTART:20231022T140000Z
DTEND:20231022T220000Z
X-MICROSOFT-CDO-ALLDAYEVENT:FALSE
SUMMARY:Halloween Celebration at Yankee Candle Village
DESCRIPTION:We'll be having some spook-tacular Halloween fun! Trick or Treating around the Village begins at 12:00 until 4pm. Show up in costume and get a FREE personalized label with the purchase of a large jar. Enjoy a ride on a horse-drawn hay wagon ($2 per rider) or do the scavenger hunt for a chance to win a Wax Works package for 4 ($80 value).
X-ALT-DESC;FMTTYPE=text/html:<span style="color: rgb(5\, 5\, 5)\; font-family: &quot\;Segoe UI Historic&quot\;\, &quot\;Segoe UI&quot\;\, Helvetica\, Arial\, sans-serif\; font-size: 15px\;">We&#39\;ll be having some spook-tacular Halloween fun! Trick or Treating around the Village begins at 12:00 until 4pm. Show up in costume and get a FREE personalized label with the purchase of a large jar. Enjoy a ride on a horse-drawn hay wagon ($2 per rider) or do the scavenger hunt for a chance to win a Wax Works package for 4 ($80 value).&nbsp\;</span>
LOCATION:Yankee Candle Village 25 Greenfield Rd.\, South Deerfield
UID:e.2182.22214
SEQUENCE:3
DTSTAMP:20260424T235428Z
URL:https://chamber.franklincc.org/events/details/halloween-celebration-at-yankee-candle-village-10-22-2023-22214
END:VEVENT

END:VCALENDAR
