BEGIN:VCALENDAR
VERSION:2.0
PRODID:-//ChamberMaster//Event Calendar 2.0//EN
METHOD:PUBLISH
X-PUBLISHED-TTL:P3D
REFRESH-INTERVAL:P3D
CALSCALE:GREGORIAN
BEGIN:VEVENT
DTSTART:20201030T200000Z
DTEND:20201030T220000Z
X-MICROSOFT-CDO-ALLDAYEVENT:FALSE
SUMMARY:Halloween at Highland A Drive-Thru Experience
DESCRIPTION:The Greenfield Recreation Department\, in partnership with businesses and agencies throughout the City\, is planning a contact-less drive through Halloween experience at Highland Park.\n\n\n\nCome experience our Halloween displays come to life with ghosts and goblins\, zombies\, skeletons\, and witches. Join us as you enter via Highland Avenue and continue through the park and exit onto Crescent Street for a 3/4 mile drive full of Halloween sights. Participants must stay in their vehicles at all times. Speed Limit is 5MPH. Masks required for all attendees. Costumes encouraged.\n\n\n\nHalloween Treat Bags with goodies will be distributed at the entrance to the first 2000 children. Additional treats will NOT be passed out along the way.
X-ALT-DESC;FMTTYPE=text/html:The Greenfield Recreation Department\, in partnership with businesses and agencies throughout the City\, is planning a contact-less drive through Halloween experience at Highland Park.<br />\n<br />\nCome experience our Halloween displays come to life with ghosts and goblins\, zombies\, skeletons\, and witches. Join us as you enter via Highland Avenue and continue through the park and exit onto Crescent Street for a 3/4 mile drive full of Halloween sights. Participants must stay in their vehicles at all times. Speed Limit is 5MPH. Masks required for all attendees. Costumes encouraged.<br />\n<br />\nHalloween Treat Bags with goodies will be distributed at the entrance to the first 2000 children. Additional treats will NOT be passed out along the way.<br />\n&nbsp\;
LOCATION:Highland Avenue Greenfield MA 01301
UID:e.2182.17662
SEQUENCE:3
DTSTAMP:20260421T020928Z
URL:https://chamber.franklincc.org/events/details/halloween-at-highland-a-drive-thru-experience-17662
END:VEVENT

END:VCALENDAR
