BEGIN:VCALENDAR
VERSION:2.0
PRODID:-//ChamberMaster//Event Calendar 2.0//EN
METHOD:PUBLISH
X-PUBLISHED-TTL:P3D
REFRESH-INTERVAL:P3D
CALSCALE:GREGORIAN
BEGIN:VEVENT
DTSTART:20230702T160000Z
DTEND:20230703T020000Z
X-MICROSOFT-CDO-ALLDAYEVENT:FALSE
SUMMARY:Greenmind Fair & Share Fourth of July Fire & Food
DESCRIPTION:With State Permitted Fireworks blasting off at night fall 9PM this Music & Arts Festival is an all day event starting at 12pm and ending at 10pm.\n\n\n\nYou can expect to find a large variety of food trucks and tents   catering to every taste and style. Local businesses and dispensaries\, craft vendors\, live art\, beer tent\, all day live music\, and tons of immersive experiences like Fire performers\, Glass blowers\, led hoops and flow workshops\, professional Massages\, Tarot Card Readings\, face painting\, communuty murals\, Glow Paint tents\, corn Hole\, games\, Raffles and much more.
X-ALT-DESC;FMTTYPE=text/html:With State Permitted Fireworks blasting off at night fall 9PM this Music &amp\; Arts Festival is an all day event starting at 12pm and ending at 10pm.<br />\n<br />\nYou can expect to find a large variety of food trucks and tents &ndash\; catering to every taste and style. Local businesses and dispensaries\, craft vendors\, live art\, beer tent\, all day live music\, and tons of immersive experiences like Fire performers\, Glass blowers\, led hoops and flow workshops\, professional Massages\, Tarot Card Readings\, face painting\, communuty murals\, Glow Paint tents\, corn Hole\, games\, Raffles and much more.<br />\n&nbsp\;
LOCATION:Franklin County Fairgrounds 89 Wisdom Way\, Greenfield
UID:e.2182.19768
SEQUENCE:3
DTSTAMP:20260425T030608Z
URL:https://chamber.franklincc.org/events/details/greenmind-fair-share-fourth-of-july-fire-food-19768
END:VEVENT

END:VCALENDAR
