BEGIN:VCALENDAR
VERSION:2.0
PRODID:-//ChamberMaster//Event Calendar 2.0//EN
METHOD:PUBLISH
X-PUBLISHED-TTL:P3D
REFRESH-INTERVAL:P3D
CALSCALE:GREGORIAN
BEGIN:VEVENT
DTSTART:20240120T150000Z
DTEND:20240120T180000Z
X-MICROSOFT-CDO-ALLDAYEVENT:FALSE
SUMMARY:Greenfield Winter Farmers Market
DESCRIPTION:We are SO excited to be partnering with the Greenfield Public Library to bring you a WINTER FARMERS MARKET this year! Along with fresh vegetables\, prepared foods\, and crafts\, there will be live acoustic music in the periodical lounge\, story times\, and other events for the whole family to enjoy
X-ALT-DESC;FMTTYPE=text/html:<span style="color: rgb(5\, 5\, 5)\; font-family: &quot\;Segoe UI Historic&quot\;\, &quot\;Segoe UI&quot\;\, Helvetica\, Arial\, sans-serif\; font-size: 15px\;">We are SO excited to be partnering with the Greenfield Public Library to bring you a WINTER FARMERS MARKET this year! Along with fresh vegetables\, prepared foods\, and crafts\, there will be live acoustic music in the periodical lounge\, story times\, and other events for the whole family to enjoy</span>
LOCATION:Greenfield Public Library 402 Main Street\, Greenfield
UID:e.2182.22444
SEQUENCE:3
DTSTAMP:20260424T194522Z
URL:https://chamber.franklincc.org/events/details/greenfield-winter-farmers-market-22444
END:VEVENT

END:VCALENDAR
