BEGIN:VCALENDAR
VERSION:2.0
PRODID:-//ChamberMaster//Event Calendar 2.0//EN
METHOD:PUBLISH
X-PUBLISHED-TTL:P3D
REFRESH-INTERVAL:P3D
CALSCALE:GREGORIAN
BEGIN:VEVENT
DTSTART:20231013T140000Z
DTEND:20231013T230000Z
X-MICROSOFT-CDO-ALLDAYEVENT:FALSE
SUMMARY:Greenfield Vintage Days 2023
DESCRIPTION:The Greenfield Business Association and the City of Greenfield are traveling back in time for the annual Vintage Days weekend celebration. Come experience Greenfield's nostalgic charm. The festivities include retro-rad activities and unique offerings throughout downtown. If you've been considering exploring all Greenfield has to offer\, this is the weekend to do it!\n\n\n\nWondering how you will get around to seeing it all? The old-school trolley is operational and will transport people around downtown Greenfield from 10 a.m. to 7 p.m. on Saturday\, traveling to vintage shopping spots\, historical locations and great places to grab brunch\, lunch and dinner. For the second year\, classic and antique hot rods will stroll into Court Square for the Vintage Days Car Show on Saturday from 4 to 7 p.m. The city will be alive with sidewalk sales of clothing\, books\, vinyl and more. You can jump on ghostly history tours\, play some vintage lawn games\, immerse in Greenfield's industrial heritage and shoot a round of pool with a vintage cocktail in hand. You can even catch a $4 showing of Batman [1989] at the Greenfield Garden Cinema.\n\n\n\nCheck out all the details on visitgreenfieldma.com!\n*VINTAGE DAYS SCHEDULE OF EVENTS*\n\n \n\nCOURT SQUARE EVENTS\n\n\n	Vintage Car Show Saturday 4:00   7:00 pm. Court Square will be full of vintage cars from all eras. Adam's Donuts will be serving donuts and coffee during the car show! To sign up to participate in the car show please visit the Greenfield Business Association website.\n	Trolley Rides Saturday 10:00 am   7:00 pm starting at Court Square and stopping at Innovintage Place\, Museum of Our Industrial Heritage\, Whitney Hill Antiques\, Roundabout Books\, and the Historical Society of Greenfield\n	Greenfield Farmers' Market Saturday 8:00 am   12:30 pm\n	Hawks & Reed will feature The Johnny Memphis Band Saturday 7:30 pm\n\n\nWEEKEND LONG EVENTS\n\n\n	Antique Revival 20-50% off sale and tag sale out back (weather permitting)\n	Greenfield Records 10% off sale\n	Innovintage Place Sales up to 75%\, Porch finds\, Raffle\, Pop-ups and more!\n	Main Street Bar & Grille Vintage Cocktail Menu\n	The Hangar Vintage Cocktail Menu & Pool Hall\n	Whitney Hill Antiques Sales all weekend\, by booth\n\n\nFRIDAY EVENTS\n\n\n	10:00 am   6:00 pm Hens & Chicks Grand Re-opening from  featuring a raffle\, face painting\, and decorations\n	12:00 pm $4 movie at The Greenfield Garden Cinema featuring Batman (1989)\n	3:00 pm $4 movie at The Greenfield Garden Cinema featuring Batman (1989)\n	4:00   9:00 pm Haunted Gallery Tours by Finch Gallery at 278 Main St. Suite 204 $3 person\n	6:00 pm Ghostly Walking Tour of Downtown Greenfield by Finch Gallery starting at 223 Main St. featuring ghost stories\, strange facts\, and history $10 adult / $5 child / $25 family\n\n\nSATURDAY EVENTS\n\n\n	8:00 am   12:30 pm Greenfield Farmers' Market at Court Square\n	9:00 am   3:00 pm Lawn Games & Open House at the Historical Society of Greenfield\n	10:00 am   6:00 pm Outdoor Used Book Sale at Roundabout Books\n	10:00 am   6:00 pm Hens & Chicks Grand Re-opening from  featuring a raffle\, face painting\, and decorations\n	11:30 am   2:30 pm Lemonade Stand at Dawn's School of Dance\n	12:00 pm $4 movie at The Greenfield Garden Cinema featuring Batman (1989)\n	12:00   1:30 pm Old Fashioned Fall Flavors & Fun! at the Franklin Community Co-op featuring free old fashioned apple crisp and cider\, free pumpkin decorating\, live music\, face painting\, and a raffle to win bakery pies\n	12:00 pm   3:00 pm Open House at the Museum of Our Industrial Heritage\n	1:00   9:00 pm Haunted Gallery Tours by Finch Gallery at 278 Main St. Suite 204 $3 person\n	4:00   7:00 pm Vintage Car Show at Court Square\n	6:00 pm Ghostly Walking Tour of Downtown Greenfield by Finch Gallery starting at 223 Main St. featuring ghost stories\, strange facts\, and history $10 adult / $5 child / $25 family\n	7:30 pm The Johnny Memphis Band at Hawks & Reed in The Perch
X-ALT-DESC;FMTTYPE=text/html:The Greenfield Business Association and the City of Greenfield are traveling back in time for the annual Vintage Days weekend celebration. Come experience Greenfield&rsquo\;s nostalgic charm. The festivities include retro-rad activities and unique offerings throughout downtown. If you&rsquo\;ve been considering exploring all Greenfield has to offer\, this is the weekend to do it!<br />\n<br />\nWondering how you will get around to seeing it all? The old-school trolley is operational and will transport people around downtown Greenfield from 10 a.m. to 7 p.m. on Saturday\, traveling to vintage shopping spots\, historical locations and great places to grab brunch\, lunch and dinner. For the second year\, classic and antique hot rods will stroll into Court Square for the Vintage Days Car Show on Saturday from 4 to 7 p.m. The city will be alive with sidewalk sales of clothing\, books\, vinyl and more. You can jump on ghostly history tours\, play some vintage lawn games\, immerse in Greenfield&rsquo\;s industrial heritage and shoot a round of pool with a vintage cocktail in hand. You can even catch a $4 showing of Batman [1989] at the Greenfield Garden Cinema.<br />\n<br />\nCheck out all the details on visitgreenfieldma.com!\n<h3><span style="color:rgb(0\, 128\, 0)">*VINTAGE DAYS SCHEDULE OF EVENTS*</span></h3>\n\n<p>&nbsp\;</p>\n\n<p><span style="color:rgb(0\, 128\, 0)"><strong>COURT SQUARE EVENTS</strong></span></p>\n\n<ul>\n	<li>Vintage Car Show Saturday 4:00 &ndash\; 7:00 pm. Court Square will be full of vintage cars from all eras.&nbsp\;<a href="https://www.adamsdonuts.com/" style="box-sizing: border-box\; background-color: transparent\; color: rgb(39\, 78\, 19)\;">Adam&rsquo\;s Donuts</a>&nbsp\;will be serving donuts and coffee during the car show! To sign up to participate in the car show please visit the Greenfield Business Association&nbsp\;<a href="https://greenfieldbusiness.org/x/2033/VINTAGE" style="box-sizing: border-box\; background-color: transparent\; color: rgb(39\, 78\, 19)\;">website.</a></li>\n	<li>Trolley Rides Saturday 10:00 am &ndash\; 7:00 pm starting at Court Square and stopping at Innovintage Place\, Museum of Our Industrial Heritage\, Whitney Hill Antiques\, Roundabout Books\, and the Historical Society of Greenfield</li>\n	<li><a href="https://greenfieldfarmersmarket.com/" style="box-sizing: border-box\; background-color: transparent\; color: rgb(39\, 78\, 19)\;">Greenfield Farmers&rsquo\; Market</a>&nbsp\;Saturday 8:00 am &ndash\; 12:30 pm</li>\n	<li><a href="https://www.hawksandreed.com/event/the-johnny-memphis-band/" style="box-sizing: border-box\; background-color: transparent\; color: rgb(39\, 78\, 19)\;">Hawks &amp\; Reed</a>&nbsp\;will feature The Johnny Memphis Band Saturday 7:30 pm</li>\n</ul>\n\n<p><span style="color:rgb(0\, 128\, 0)"><strong>WEEKEND LONG EVENTS</strong></span></p>\n\n<ul>\n	<li><a href="https://www.antiquerevival.com/" style="box-sizing: border-box\; background-color: transparent\; color: rgb(39\, 78\, 19)\;">Antique Revival</a>&nbsp\;20-50% off sale and tag sale out back (weather permitting)</li>\n	<li><a href="https://johndoejunior.com/" style="box-sizing: border-box\; background-color: transparent\; color: rgb(39\, 78\, 19)\;">Greenfield Records</a>&nbsp\;10% off sale</li>\n	<li><a href="https://www.facebook.com/innovintage/" style="box-sizing: border-box\; background-color: transparent\; color: rgb(39\, 78\, 19)\;">Innovintage Place</a>&nbsp\;Sales up to 75%\, Porch finds\, Raffle\, Pop-ups and more!</li>\n	<li><a href="https://mainstreetbarandgrille.com/" style="box-sizing: border-box\; background-color: transparent\; color: rgb(39\, 78\, 19)\;">Main Street Bar &amp\; Grille</a>&nbsp\;Vintage Cocktail Menu</li>\n	<li><a href="https://www.hangarpubandgrill.com/locations-2/location-greenfield" style="box-sizing: border-box\; background-color: transparent\; color: rgb(39\, 78\, 19)\;">The Hangar</a>&nbsp\;Vintage Cocktail Menu &amp\; Pool Hall</li>\n	<li><a href="https://www.facebook.com/p/Whitney-Hill-Antiques-100063812290366/" style="box-sizing: border-box\; background-color: transparent\; color: rgb(39\, 78\, 19)\;">Whitney Hill Antiques</a>&nbsp\;Sales all weekend\, by booth</li>\n</ul>\n\n<p><span style="color:rgb(0\, 128\, 0)"><strong>FRIDAY EVENTS</strong></span></p>\n\n<ul>\n	<li><strong>10:00 am &ndash\; 6:00 pm</strong>&nbsp\;<a href="https://www.hensandchicks.net/" style="box-sizing: border-box\; background-color: transparent\; color: rgb(39\, 78\, 19)\;">Hens &amp\; Chicks</a>&nbsp\;Grand Re-opening from&nbsp\; featuring a raffle\, face painting\, and decorations</li>\n	<li><strong>12:00 pm</strong>&nbsp\;$4 movie at&nbsp\;<a href="http://www.gardencinemas.net/" style="box-sizing: border-box\; background-color: transparent\; color: rgb(39\, 78\, 19)\;">The Greenfield Garden Cinema</a>&nbsp\;featuring Batman (1989)</li>\n	<li><strong>3:00 pm</strong>&nbsp\;$4 movie at&nbsp\;<a href="http://www.gardencinemas.net/" style="box-sizing: border-box\; background-color: transparent\; color: rgb(39\, 78\, 19)\;">The Greenfield Garden Cinema</a>&nbsp\;featuring Batman (1989)</li>\n	<li><strong>4:00 &ndash\; 9:00 pm</strong>&nbsp\;Haunted Gallery Tours by&nbsp\;<a href="https://www.facebook.com/carafinchfineart/" style="box-sizing: border-box\; background-color: transparent\; color: rgb(39\, 78\, 19)\;">Finch Gallery</a>&nbsp\;at 278 Main St. Suite 204 $3 person</li>\n	<li><strong>6:00 pm</strong>&nbsp\;Ghostly Walking Tour of Downtown Greenfield by&nbsp\;<a href="https://www.facebook.com/carafinchfineart/" style="box-sizing: border-box\; background-color: transparent\; color: rgb(39\, 78\, 19)\;">Finch Gallery</a>&nbsp\;starting at 223 Main St. featuring ghost stories\, strange facts\, and history $10 adult / $5 child / $25 family</li>\n</ul>\n\n<p><strong><span style="color:rgb(0\, 128\, 0)">SATURDAY EVENTS</span></strong></p>\n\n<ul>\n	<li><strong>8:00 am &ndash\; 12:30 pm</strong>&nbsp\;<a href="https://greenfieldfarmersmarket.com/" style="box-sizing: border-box\; background-color: transparent\; color: rgb(39\, 78\, 19)\;">Greenfield Farmers&rsquo\; Market</a>&nbsp\;at Court Square</li>\n	<li><strong>9:00 am &ndash\; 3:00 pm</strong>&nbsp\;Lawn Games &amp\; Open House at the&nbsp\;<a href="https://www.historicalsocietygreenfieldma.org/" style="box-sizing: border-box\; background-color: transparent\; color: rgb(39\, 78\, 19)\;">Historical Society of Greenfield</a></li>\n	<li><strong>10:00 am &ndash\; 6:00 pm</strong>&nbsp\;Outdoor Used Book Sale at&nbsp\;<a href="https://roundaboutbookstore.com/" style="box-sizing: border-box\; background-color: transparent\; color: rgb(39\, 78\, 19)\;">Roundabout Books</a></li>\n	<li><strong>10:00 am &ndash\; 6:00 pm</strong>&nbsp\;<a href="https://www.hensandchicks.net/" style="box-sizing: border-box\; background-color: transparent\; color: rgb(39\, 78\, 19)\;">Hens &amp\; Chicks</a>&nbsp\;Grand Re-opening from&nbsp\; featuring a raffle\, face painting\, and decorations</li>\n	<li><strong>11:30 am &ndash\; 2:30 pm</strong>&nbsp\;Lemonade Stand at&nbsp\;<a href="https://www.facebook.com/DawnsSchoolOfDance/" style="box-sizing: border-box\; background-color: transparent\; color: rgb(39\, 78\, 19)\;">Dawn&rsquo\;s School of Dance</a></li>\n	<li><strong>12:00 pm</strong>&nbsp\;$4 movie at&nbsp\;<a href="http://www.gardencinemas.net/" style="box-sizing: border-box\; background-color: transparent\; color: rgb(39\, 78\, 19)\;">The Greenfield Garden Cinema</a>&nbsp\;featuring Batman (1989)</li>\n	<li><strong>12:00 &ndash\; 1:30 pm</strong>&nbsp\;Old Fashioned Fall Flavors &amp\; Fun! at the&nbsp\;<a href="https://www.franklincommunity.coop/" style="box-sizing: border-box\; background-color: transparent\; color: rgb(39\, 78\, 19)\;">Franklin Community Co-op</a>&nbsp\;featuring free old fashioned apple crisp and cider\, free pumpkin decorating\, live music\, face painting\, and a raffle to win bakery pies</li>\n	<li><strong>12:00 pm &ndash\; 3:00 pm</strong>&nbsp\;Open House at the&nbsp\;<a href="https://industrialhistory.org/" style="box-sizing: border-box\; background-color: transparent\; color: rgb(39\, 78\, 19)\;">Museum of Our Industrial Heritage</a></li>\n	<li><strong>1:00 &ndash\; 9:00 pm</strong>&nbsp\;Haunted Gallery Tours by&nbsp\;<a href="https://www.facebook.com/carafinchfineart/" style="box-sizing: border-box\; background-color: transparent\; color: rgb(39\, 78\, 19)\;">Finch Gallery</a>&nbsp\;at 278 Main St. Suite 204 $3 person</li>\n	<li><strong>4:00 &ndash\; 7:00 pm</strong>&nbsp\;Vintage Car Show at Court Square</li>\n	<li><strong>6:00 pm</strong>&nbsp\;Ghostly Walking Tour of Downtown Greenfield by&nbsp\;<a href="https://www.facebook.com/carafinchfineart/" style="box-sizing: border-box\; background-color: transparent\; color: rgb(39\, 78\, 19)\;">Finch Gallery</a>&nbsp\;starting at 223 Main St. featuring ghost stories\, strange facts\, and history $10 adult / $5 child / $25 family</li>\n	<li><strong>7:30 pm</strong>&nbsp\;The Johnny Memphis Band at&nbsp\;<a href="https://www.hawksandreed.com/event/the-johnny-memphis-band/" style="box-sizing: border-box\; background-color: transparent\; color: rgb(39\, 78\, 19)\;">Hawks &amp\; Reed</a>&nbsp\;in The Perch</li>\n</ul>\n
LOCATION:Downtown Greenfield\, MA
UID:e.2182.22221
SEQUENCE:3
DTSTAMP:20260425T011856Z
URL:https://chamber.franklincc.org/events/details/greenfield-vintage-days-2023-22221
END:VEVENT

END:VCALENDAR
