BEGIN:VCALENDAR
VERSION:2.0
PRODID:-//ChamberMaster//Event Calendar 2.0//EN
METHOD:PUBLISH
X-PUBLISHED-TTL:P3D
REFRESH-INTERVAL:P3D
CALSCALE:GREGORIAN
BEGIN:VEVENT
DTSTART:20190727T120000Z
DTEND:20190727T163000Z
X-MICROSOFT-CDO-ALLDAYEVENT:FALSE
SUMMARY:Greenfield Farmers Market
DESCRIPTION:The Market usually has 30 participating vendors that sell a wide variety of organic and conventional produce. In the early spring\, starter veggie and flower plants as well as hanging plants. Also locally raised grass-fed beef\, pork and lamb\, fresh eggs\, cheese and so much more.
X-ALT-DESC;FMTTYPE=text/html:The Market usually has 30 participating vendors that sell a wide variety of organic and conventional produce.&nbsp\;In the early spring\, starter veggie and flower plants as well as hanging plants.&nbsp\;Also locally raised grass-fed beef\, pork and lamb\, fresh eggs\, cheese and so much more.&nbsp\;
LOCATION:Court Square in Greenfield (between the Town Common and Town Hall).
UID:e.2182.14933
SEQUENCE:3
DTSTAMP:20260419T213345Z
URL:https://chamber.franklincc.org/events/details/greenfield-farmers-market-07-27-2019-14933
END:VEVENT

END:VCALENDAR
