BEGIN:VCALENDAR
VERSION:2.0
PRODID:-//ChamberMaster//Event Calendar 2.0//EN
METHOD:PUBLISH
X-PUBLISHED-TTL:P3D
REFRESH-INTERVAL:P3D
CALSCALE:GREGORIAN
BEGIN:VEVENT
DTSTART;VALUE=DATE:20230623
DTEND;VALUE=DATE:20230624
TRANSP:TRANSPARENT
X-MICROSOFT-CDO-ALLDAYEVENT:TRUE
SUMMARY:Green River Festival
DESCRIPTION:Named one of "fifty essential summer music festivals" by The New York Times\, Green River Festival is Western Massachusetts' signature summer event. Celebrating its 36th year this June\, Green River is a fantastic celebration of music and community: a world-class lineup of over 30 acts on four stages\, the best in local food\, beer and wine\, handmade juried crafts at The Makers Market\, a wide array of kid's music and activities\, and camping. Come see why NPR recently wrote\, "The Green River Festival lineup gets more legendary by the year."\n\n\n\nCHECK THE FULL LINEUP HERE: https://www.greenriverfestival.com/lineup
X-ALT-DESC;FMTTYPE=text/html:Named one of &ldquo\;fifty essential summer music festivals&rdquo\; by The New York Times\, Green River Festival is Western Massachusetts&rsquo\; signature summer event. Celebrating its 36th year this June\, Green River is a fantastic celebration of music and community: a world-class lineup of over 30 acts on four stages\, the best in local food\, beer and wine\, handmade juried crafts at The Makers Market\, a wide array of kid&rsquo\;s music and activities\, and camping. Come see why NPR recently wrote\, &ldquo\;The Green River Festival lineup gets more legendary by the year.&rdquo\;<br />\n<br />\nCHECK THE FULL LINEUP HERE:<a href="http://https://www.greenriverfestival.com/lineup" target="_blank"> https://www.greenriverfestival.com/lineup</a>
LOCATION:Franklin County Fairgrounds 89 Wisdom Way\, Greenfield
UID:e.2182.19811
SEQUENCE:3
DTSTAMP:20260425T030416Z
URL:https://chamber.franklincc.org/events/details/green-river-festival-19811
END:VEVENT

END:VCALENDAR
