BEGIN:VCALENDAR
VERSION:2.0
PRODID:-//ChamberMaster//Event Calendar 2.0//EN
METHOD:PUBLISH
X-PUBLISHED-TTL:P3D
REFRESH-INTERVAL:P3D
CALSCALE:GREGORIAN
BEGIN:VEVENT
DTSTART:20240818T140000Z
DTEND:20240818T220000Z
X-MICROSOFT-CDO-ALLDAYEVENT:FALSE
SUMMARY:Great Hall Exhibit: Local Birds in Colored Pencil
DESCRIPTION:Artist Mark Majeski takes photographs of birds and plants and arranges them into collages as a guide for his drawings. Using this process\, he emphasizes the coloration and behavior of commonly seen Massachusetts birds.
X-ALT-DESC;FMTTYPE=text/html:Artist Mark Majeski takes photographs of birds and plants and arranges them into collages as a guide for his drawings. Using this process\, he emphasizes the coloration and behavior of commonly seen Massachusetts birds.
LOCATION:Great Falls Discovery Center 2 Avenue A Turners Falls
UID:e.2182.23331
SEQUENCE:3
DTSTAMP:20260424T111131Z
URL:https://chamber.franklincc.org/events/details/great-hall-exhibit-local-birds-in-colored-pencil-08-18-2024-23331
END:VEVENT

END:VCALENDAR
