BEGIN:VCALENDAR
VERSION:2.0
PRODID:-//ChamberMaster//Event Calendar 2.0//EN
METHOD:PUBLISH
X-PUBLISHED-TTL:P3D
REFRESH-INTERVAL:P3D
CALSCALE:GREGORIAN
BEGIN:VEVENT
DTSTART:20190526T140000Z
DTEND:20190526T200000Z
X-MICROSOFT-CDO-ALLDAYEVENT:FALSE
SUMMARY:Great Hall Art Display: Portraits of Native People of the Valley
DESCRIPTION:Photos by Sara K. Lyons\, Curated by Rhonda Anderson\n\nThis exhibit is offered as part of the Radical Interconnectedness Festival. Images from Sara's fine art photographic series have been exhibited in group shows throughout New England. Sara teaches art\, photography\, and design at a public charter school and Greenfield Community College.
X-ALT-DESC;FMTTYPE=text/html:Photos by Sara K. Lyons\, Curated by Rhonda Anderson<br />\nThis exhibit is offered as part of the Radical Interconnectedness Festival. Images from Sara&rsquo\;s fine art photographic series have been exhibited in group shows throughout New England. Sara teaches art\, photography\, and design at a public charter school and Greenfield Community College.
LOCATION:Great Falls Discovery Center 2 Avenue A\, Turners Falls
UID:e.2182.14881
SEQUENCE:3
DTSTAMP:20260424T074938Z
URL:https://chamber.franklincc.org/events/details/great-hall-art-display-portraits-of-native-people-of-the-valley-05-26-2019-14881
END:VEVENT

END:VCALENDAR
