BEGIN:VCALENDAR
VERSION:2.0
PRODID:-//ChamberMaster//Event Calendar 2.0//EN
METHOD:PUBLISH
X-PUBLISHED-TTL:P3D
REFRESH-INTERVAL:P3D
CALSCALE:GREGORIAN
BEGIN:VEVENT
DTSTART:20230912T130000Z
DTEND:20230912T170000Z
X-MICROSOFT-CDO-ALLDAYEVENT:FALSE
SUMMARY:Great Falls Farmers Market
DESCRIPTION:This year's vendors include Kingsbury Farms\, PK Industries\, Big Foot Food Forest\, Milewski Melts\, Stout Pigeon Coffee\, and more! We are also excited to welcome Falls Farm\, who in addition to their market offerings will offer the market as a pick-up location for their CSA.\n\nTo make sure our community gets the most out of our market\, the market itself is a SNAP and Healthy Incentives Program (HIP) vendor. This means every eligible item at our market will be able to be purchased with SNAP and HIP!\n\nOver the course of the season we'll be hosting various programming\, including monthly visits from the Carnegie Library for pop-up storytime.
X-ALT-DESC;FMTTYPE=text/html:T<span style="font-family: &quot\;Open Sans&quot\;\, &quot\;Helvetica Neue&quot\;\, Helvetica\, Arial\, &quot\;Nimbus L&quot\;\, sans-serif\; font-size: 12px\;">his year&rsquo\;s vendors include Kingsbury Farms\, PK Industries\, Big Foot Food Forest\, Milewski Melts\, Stout Pigeon Coffee\, and more! We are also excited to welcome Falls Farm\, who in addition to their market offerings will offer the market as a pick-up location for their CSA.</span><br />\n<span style="font-family: &quot\;Open Sans&quot\;\, &quot\;Helvetica Neue&quot\;\, Helvetica\, Arial\, &quot\;Nimbus L&quot\;\, sans-serif\; font-size: 12px\;">To make sure our community gets the most out of our market\, the market itself is a SNAP and Healthy Incentives Program (HIP) vendor. This means every eligible item at our market will be able to be purchased with SNAP and HIP!</span><br />\n<span style="font-family: &quot\;Open Sans&quot\;\, &quot\;Helvetica Neue&quot\;\, Helvetica\, Arial\, &quot\;Nimbus L&quot\;\, sans-serif\; font-size: 12px\;">Over the course of the season we&rsquo\;ll be hosting various programming\, including monthly visits from the Carnegie Library for pop-up storytime.&nbsp\;</span>
LOCATION:Peskeomskut Park Avenue A Turners Falls
UID:e.2182.19939
SEQUENCE:3
DTSTAMP:20260425T023401Z
URL:https://chamber.franklincc.org/events/details/great-falls-farmers-market-09-12-2023-19939
END:VEVENT

END:VCALENDAR
