BEGIN:VCALENDAR
VERSION:2.0
PRODID:-//ChamberMaster//Event Calendar 2.0//EN
METHOD:PUBLISH
X-PUBLISHED-TTL:P3D
REFRESH-INTERVAL:P3D
CALSCALE:GREGORIAN
BEGIN:VEVENT
DTSTART:20230902T130000Z
DTEND:20230902T170000Z
X-MICROSOFT-CDO-ALLDAYEVENT:FALSE
SUMMARY:Great Falls Farmers' Market
DESCRIPTION:Featuring local produce\, plants\, flowers and other vendors.
X-ALT-DESC;FMTTYPE=text/html:Featuring local produce\, plants\, flowers and other vendors.
LOCATION:Peskeomskut Park 200 Avenue A\, Turners Falls MA 01376
UID:e.2182.20335
SEQUENCE:3
DTSTAMP:20260425T012208Z
URL:https://chamber.franklincc.org/events/details/great-falls-farmers-market-09-02-2023-20335
END:VEVENT

END:VCALENDAR
