BEGIN:VCALENDAR
VERSION:2.0
PRODID:-//ChamberMaster//Event Calendar 2.0//EN
METHOD:PUBLISH
X-PUBLISHED-TTL:P3D
REFRESH-INTERVAL:P3D
CALSCALE:GREGORIAN
BEGIN:VEVENT
DTSTART:20230812T130000Z
DTEND:20230812T170000Z
X-MICROSOFT-CDO-ALLDAYEVENT:FALSE
SUMMARY:Great Falls Farmers' Market
DESCRIPTION:Featuring local produce\, plants\, flowers and other vendors.
X-ALT-DESC;FMTTYPE=text/html:Featuring local produce\, plants\, flowers and other vendors.
LOCATION:Peskeomskut Park 200 Avenue A\, Turners Falls MA 01376
UID:e.2182.20332
SEQUENCE:3
DTSTAMP:20260425T035301Z
URL:https://chamber.franklincc.org/events/details/great-falls-farmers-market-08-12-2023-20332
END:VEVENT

END:VCALENDAR
