BEGIN:VCALENDAR
VERSION:2.0
PRODID:-//ChamberMaster//Event Calendar 2.0//EN
METHOD:PUBLISH
X-PUBLISHED-TTL:P3D
REFRESH-INTERVAL:P3D
CALSCALE:GREGORIAN
BEGIN:VEVENT
DTSTART:20230512T230000Z
DTEND:20230513T010000Z
X-MICROSOFT-CDO-ALLDAYEVENT:FALSE
SUMMARY:Great Falls Coffeehouse Presents: Eloise & Co.
DESCRIPTION:Join us spring\, summer\, and fall for the Friends of the Great Falls Discovery Center's concert series featuring local talent. Enjoy Celtic\, contra dance\, and folk music from Eloise & Co in the Great Hall. Refreshments available.
X-ALT-DESC;FMTTYPE=text/html:Join us spring\, summer\, and fall for the Friends of the Great Falls Discovery Center&rsquo\;s concert series featuring local talent. Enjoy Celtic\, contra dance\, and folk music from Eloise &amp\; Co in the Great Hall. Refreshments available.
LOCATION:Great Falls Discovery Center Great Hall
UID:e.2182.19676
SEQUENCE:3
DTSTAMP:20260425T002248Z
URL:https://chamber.franklincc.org/events/details/great-falls-coffeehouse-presents-eloise-co-19676
END:VEVENT

END:VCALENDAR
